BEGIN:VCALENDAR
VERSION:2.0
PRODID:-//Prison Mission - ECPv6.15.13.1//NONSGML v1.0//EN
CALSCALE:GREGORIAN
METHOD:PUBLISH
X-ORIGINAL-URL:https://www.prisonmission.org
X-WR-CALDESC:Events for Prison Mission
REFRESH-INTERVAL;VALUE=DURATION:PT1H
X-Robots-Tag:noindex
X-PUBLISHED-TTL:PT1H
BEGIN:VTIMEZONE
TZID:America/Chicago
BEGIN:DAYLIGHT
TZOFFSETFROM:-0600
TZOFFSETTO:-0500
TZNAME:CDT
DTSTART:20230312T080000
END:DAYLIGHT
BEGIN:STANDARD
TZOFFSETFROM:-0500
TZOFFSETTO:-0600
TZNAME:CST
DTSTART:20231105T070000
END:STANDARD
BEGIN:DAYLIGHT
TZOFFSETFROM:-0600
TZOFFSETTO:-0500
TZNAME:CDT
DTSTART:20240310T080000
END:DAYLIGHT
BEGIN:STANDARD
TZOFFSETFROM:-0500
TZOFFSETTO:-0600
TZNAME:CST
DTSTART:20241103T070000
END:STANDARD
BEGIN:DAYLIGHT
TZOFFSETFROM:-0600
TZOFFSETTO:-0500
TZNAME:CDT
DTSTART:20250309T080000
END:DAYLIGHT
BEGIN:STANDARD
TZOFFSETFROM:-0500
TZOFFSETTO:-0600
TZNAME:CST
DTSTART:20251102T070000
END:STANDARD
END:VTIMEZONE
BEGIN:VEVENT
DTSTART;TZID=America/Chicago:20240518T130000
DTEND;TZID=America/Chicago:20240518T150000
DTSTAMP:20260424T214420
CREATED:20240318T024609Z
LAST-MODIFIED:20240318T024609Z
UID:51693-1716037200-1716044400@www.prisonmission.org
SUMMARY:Pastor Dwight teaching Workshop at CMCA Summit\, Wheaton College\, IL May 17-18\, 2024
DESCRIPTION:Pastor Dwight will be having a PMA exhibitor table and teaching a workshop \nat this 2024 SUMMIT May 17-18\, 2024\nWheaton College\, Billy Graham Center\n501 College Ave\nWheaton\, IL 60187 \nhttps://www.cmcainternational.org/cmca-2024-summit-vision-and-purpose-2/ \nCMCA is committed to hosting an annual Correctional Ministry Summit that offers training\, inspiration\, and networking opportunities to those working with the incarcerated\, formerly incarcerated\, their families\, victims\, and correctional staff.  The purpose of each Summit is: \n\nTo equip correctional ministry leaders\, chaplains\, corrections administrators\, program managers\, and community agency administrators to more effectively serve the incarcerated\, formerly incarcerated\, victims\, and their families through specialized workshops\, networking\, and resources.\nTo facilitate collaboration among organizations that serve those impacted by the criminal justice system.\nTo encourage churches\, faith-based\, and community organizations to more effectively serve the incarcerated\, and formerly incarcerated\, victims and their families.\nTo provide a venue for visioning\, training\, and leadership development for formerly incarcerated persons and victims.\n\nThe objectives of the Summit are as follows: \n\nTo provide instruction through specialized workshops\nTo provide inspiration through engaging plenary sessions\nTo facilitate the establishment of a network of resources\n\nCMCA welcomes you to join us at this year’s Correctional Ministry Summit.  CMCA remains constant in its vision and purpose of the Summit and we pray that each year offers a new and fresh perspective for our attendees and builds them up in the work they are doing to fulfill the work of the Lord. \nPastor Dwight teaching workshop\, “Ministry with Correctional Officers”\, SAT\, MAY 18\, Workshop Session 4:  1:15 – 2:45 PM \nDESCRIPTION:  Dwight will describe corrections fatigue and discuss how your ministry can help alleviate or mitigate some of the issues corrections officers face due to the daily high stress and violence they experience.  Resources and practical solutions will be provided.  Pastor Dwight Anderson\, Director of Prison Mission Association (PMA)\, develops leaders in prison to plant micro-churches behind bars. \nIf you are in the Chicago area\, please call Pastor Dwight\, he would love to catch up with you. 612-423-3457 \n  \n 
URL:https://www.prisonmission.org/event/pastor-dwight-teaching-workshop-at-cmca-summit-wheaton-college-il-may-17-18-2024/
LOCATION:Wheaton College\, IL\, United States
CATEGORIES:Conference
ATTACH;FMTTYPE=image/jpeg:https://www.prisonmission.org/wp-content/uploads/2024/03/cmca-summit-2024.jpg
END:VEVENT
END:VCALENDAR