BEGIN:VCALENDAR
VERSION:2.0
PRODID:-//Prison Mission - ECPv6.15.13.1//NONSGML v1.0//EN
CALSCALE:GREGORIAN
METHOD:PUBLISH
X-ORIGINAL-URL:https://www.prisonmission.org
X-WR-CALDESC:Events for Prison Mission
REFRESH-INTERVAL;VALUE=DURATION:PT1H
X-Robots-Tag:noindex
X-PUBLISHED-TTL:PT1H
BEGIN:VTIMEZONE
TZID:America/Chicago
BEGIN:DAYLIGHT
TZOFFSETFROM:-0600
TZOFFSETTO:-0500
TZNAME:CDT
DTSTART:20130310T080000
END:DAYLIGHT
BEGIN:STANDARD
TZOFFSETFROM:-0500
TZOFFSETTO:-0600
TZNAME:CST
DTSTART:20131103T070000
END:STANDARD
BEGIN:DAYLIGHT
TZOFFSETFROM:-0600
TZOFFSETTO:-0500
TZNAME:CDT
DTSTART:20140309T080000
END:DAYLIGHT
BEGIN:STANDARD
TZOFFSETFROM:-0500
TZOFFSETTO:-0600
TZNAME:CST
DTSTART:20141102T070000
END:STANDARD
BEGIN:DAYLIGHT
TZOFFSETFROM:-0600
TZOFFSETTO:-0500
TZNAME:CDT
DTSTART:20150308T080000
END:DAYLIGHT
BEGIN:STANDARD
TZOFFSETFROM:-0500
TZOFFSETTO:-0600
TZNAME:CST
DTSTART:20151101T070000
END:STANDARD
BEGIN:DAYLIGHT
TZOFFSETFROM:-0600
TZOFFSETTO:-0500
TZNAME:CDT
DTSTART:20160313T080000
END:DAYLIGHT
BEGIN:STANDARD
TZOFFSETFROM:-0500
TZOFFSETTO:-0600
TZNAME:CST
DTSTART:20161106T070000
END:STANDARD
BEGIN:DAYLIGHT
TZOFFSETFROM:-0600
TZOFFSETTO:-0500
TZNAME:CDT
DTSTART:20170312T080000
END:DAYLIGHT
BEGIN:STANDARD
TZOFFSETFROM:-0500
TZOFFSETTO:-0600
TZNAME:CST
DTSTART:20171105T070000
END:STANDARD
END:VTIMEZONE
BEGIN:VEVENT
DTSTART;TZID=America/Chicago:20160521T134500
DTEND;TZID=America/Chicago:20160521T151500
DTSTAMP:20260423T130312
CREATED:20160510T033610Z
LAST-MODIFIED:20160510T033610Z
UID:9365-1463838300-1463843700@www.prisonmission.org
SUMMARY:Pastor Dwight teaching Workshop at CMCA Summit in Atlanta\, GA\, May 21\, 2016
DESCRIPTION:Pastor Dwight was invited to have a display\, May 20-22\, CMCA Ministry Summit\, Atlanta\, GA. and Teaching a workshop on “Planting Churches in Prisons – using Bible Correspondence courses” on Sat. May 21\, 1:45 pm- 3:15 pm. \nhttps://www.cmcainternational.org/2016-correctional-ministry-summit/ \nUNITE 2016: Correctional Ministry Summit\n 4th Annual CMCA \nCorrectional Ministry Summit\nFriday-Sunday\, May 20-22\, 2016\nThe Westin Atlanta Airport Hotel\nThe correctional ministry mission field is vast and includes a broad range of needs. There are roughly nine million people incarcerated throughout the world and their needs are many—spiritual\, physical\, emotional\, mental\, occupational\, social\, relational. Meeting the needs of everyone affected by crime seems like an impossible task. How can we make the greatest long-term difference while covering a wide scope of issues? The Apostle Paul gives us guidance: \nTherefore I\, a prisoner for serving the Lord\, beg you to lead a life worthy of your calling\, for you have been called by God. Always be humble and gentle. Be patient with each other\, making allowance for each other’s faults because of your love. Make every effort to keep yourselves united in the Spirit\, binding yourselves together with peace. For there is one body and one Spirit\, just as you have been called to one glorious hope for the future. (Eph. 4:14; emphasis ours) \n 
URL:https://www.prisonmission.org/event/pastor-dwight-teaching-workshop-cmca-summit-atlanta-ga-may-21-2016/
LOCATION:The Westin Atlanta Airport Hotel\, Atlanta\, GA\, United States
CATEGORIES:Conference
ATTACH;FMTTYPE=image/png:https://www.prisonmission.org/wp-content/uploads/2016/05/UNITE_slider.png
END:VEVENT
BEGIN:VEVENT
DTSTART;TZID=America/Chicago:20160423T100000
DTEND;TZID=America/Chicago:20160423T110000
DTSTAMP:20260423T130312
CREATED:20160420T213805Z
LAST-MODIFIED:20160420T213805Z
UID:9279-1461405600-1461409200@www.prisonmission.org
SUMMARY:Pastor Dwight sharing at BBI Missions Conference\, Slinger\, Wisc. April 22-23
DESCRIPTION:Its an honor to represent Prison Mission at the BBI Missions conference this year!\nApril 22- 6 pm Friday night\, there will be some fun with Missionary Pictionary\, Missionary Testimonies\, and missionary interviews.\nApril 23\, 10 am\, Sat. Pastor Dwight will be sharing about what God is doing in the Prisons and how we can be an ambassador for Christ to reach those behind bars and plant churches there! \nIf you are in the area\, stop by!! http://www.bereanbibleinstitute.org/conferences.html \nhttps://youtu.be/JgWgOOK1kw4
URL:https://www.prisonmission.org/event/pastor-dwight-sharing-bbi-missions-conference-slinger-wisc-april-22-23/
LOCATION:Berean Bible Institute\, 116 Kettle Moraine Dr. S. \, Slinger\, WI\, 53086\, United States
CATEGORIES:Conference
ATTACH;FMTTYPE=image/jpeg:https://www.prisonmission.org/wp-content/uploads/2015/07/BBI-Dr-Rob-and-Dwight.jpg
END:VEVENT
BEGIN:VEVENT
DTSTART;TZID=America/Chicago:20151015T123000
DTEND;TZID=America/Chicago:20151017T170000
DTSTAMP:20260423T130312
CREATED:20150927T010140Z
LAST-MODIFIED:20150927T010140Z
UID:8944-1444912200-1445101200@www.prisonmission.org
SUMMARY:Prison Congregations of America Conference\, Oct.15-17\, Ankeny\, Iowa
DESCRIPTION:Pastor Dwight is invited to be part of Prison Congregations of America Conference\,  October 15 – 17\, 2015. It will be at \nAnkeny First United Methodist Church\,  206 SW Walnut St.\, Ankeny\, IA and be able to visit the church that was planted in Iowa Correctional Institution for Women (ICIW)\,  called “Women at the Well” 420 Mill Street SW\, Mitchellville\, IA  50169. Worship service in prion will be 7 pm Thursday. \n \n 
URL:https://www.prisonmission.org/event/prison-congregations-of-america-conference-oct-15-17-ankeny-iowa/
LOCATION:Ankeny First United Methodist Church\, 206 SW Walnut St.\, Ankeny\, \, IA\, United States
CATEGORIES:Conference
ATTACH;FMTTYPE=image/png:https://www.prisonmission.org/wp-content/uploads/2015/09/prison-congregations-of-america.png
END:VEVENT
BEGIN:VEVENT
DTSTART;TZID=America/Chicago:20150909T170000
DTEND;TZID=America/Chicago:20150911T210000
DTSTAMP:20260423T130312
CREATED:20150826T122642Z
LAST-MODIFIED:20150826T122642Z
UID:8905-1441818000-1442005200@www.prisonmission.org
SUMMARY:Dwight invited to teach at the Coalition of Prison Evangelists Conference in Indianapolis\, Sept. 9-11
DESCRIPTION:Dwight is honored to be asked to teach a workshop on the “Power and Benefits of Correspondence Courses” at the upcoming COPE (Coalition of Prison Evangelists) Conference\, September 9th-11th\, 2015. It will be held at East 91st Street Christian Church. 6049 E. 91st Street.  Indianapolis\, IN  46250.  If you are in the area\, we would love to see you and visit with you. For more info\, please check out the website http://www.copeconnections.org/events.htm
URL:https://www.prisonmission.org/event/dwight-invited-to-teach-at-the-coalition-of-prison-evangelists-conference-in-indianapolis-sept-9-11/
LOCATION:East 91st Street Christian Church.\, 6049 E. 91st Street.  \, Indianapolis\, IN\,  46250.\, United States
CATEGORIES:Conference
ATTACH;FMTTYPE=image/png:https://www.prisonmission.org/wp-content/uploads/2015/08/cope-event-sept2015.png
END:VEVENT
BEGIN:VEVENT
DTSTART;TZID=America/Chicago:20150824T190000
DTEND;TZID=America/Chicago:20150826T120000
DTSTAMP:20260423T130312
CREATED:20150826T033824Z
LAST-MODIFIED:20150826T033824Z
UID:8903-1440442800-1440590400@www.prisonmission.org
SUMMARY:Dwight has PMA display and sharing at the Discovery Conference Aug.24-26
DESCRIPTION:Dwight was invited to share what God is doing through PMA at the Discovery Conference\, Aug.24-26\, 2015. Its a wonderful time as Dr. Sam Vinton\, Pastor Frosty Hanson\, Pastor Mark Matychuk and Les Feldick (via Skype) share from God’s Word. Its a blessing to be with so many people for this Bible conference! We have our display up and pray for many new contacts to be able to start using our lessons!
URL:https://www.prisonmission.org/event/dwight-has-pma-display-and-sharing-at-the-discovery-conference-aug-24-26/
LOCATION:ARC- Associated Retreat Center\, 2372 30th Ave. \, Osceola\, WI\, 54020\, United States
CATEGORIES:Conference
ATTACH;FMTTYPE=image/jpeg:https://www.prisonmission.org/wp-content/uploads/2014/08/associated-retreat-center.jpg
END:VEVENT
BEGIN:VEVENT
DTSTART;TZID=America/Chicago:20150715T170000
DTEND;TZID=America/Chicago:20150718T130000
DTSTAMP:20260423T130312
CREATED:20141208T161100Z
LAST-MODIFIED:20141208T161100Z
UID:8185-1436979600-1437224400@www.prisonmission.org
SUMMARY:July 15-18\, 2015 GGF Family Bible Conference\, in Grand Rapids\, MI.
DESCRIPTION:Dwight is thrilled to be part of the Grace Gospel Fellowship and to be a part of the conference\, July 15-18\, 2015\, at Rush Creek Bible Church in Grand Rapids\, for the GGF Family Bible Conference. We will have a Prison Mission Association display table setup.
URL:https://www.prisonmission.org/event/july-15-18-2015-ggf-family-bible-conference-grand-rapids-mi/
LOCATION:Rush Creek Bible Church\, 2334 76th Street SW \, Byron Center\, MI\, 49315\, United States
CATEGORIES:Conference
ATTACH;FMTTYPE=image/jpeg:https://www.prisonmission.org/wp-content/uploads/2014/11/GGF-Family-Conf.jpg
END:VEVENT
BEGIN:VEVENT
DTSTART;TZID=America/Chicago:20150622T153000
DTEND;TZID=America/Chicago:20150622T163000
DTSTAMP:20260423T130312
CREATED:20150614T212405Z
LAST-MODIFIED:20150614T212405Z
UID:8732-1434987000-1434990600@www.prisonmission.org
SUMMARY:Dwight will be sharing PMA's 10 year Vision at BBF 47th Annual Conference\, June 22!
DESCRIPTION:Pastor Dwight is looking forward to sharing about PMA’s new 10 year vision at the Berean Bible Fellowship Conference\, June 22\, Monday\, 3:30 pm during the Missionary hour! If you are in the area\, please contact Pastor Dwight – 612-423-3457 \nhttp://bereanbiblefellowship.weebly.com/annual-june-conference-2015.html \nHere are more details on the conference: \nDates: June 20-25\, 2015 \nTheme: The Pillar and Ground of the Truth \nBible Hour Speaker: Pastor Richard Ware\, Valley Grace Church\, Peoria\, Arizona \nGuest Speakers from around the country will be present to proclaim the riches of God’s grace! \nMusic Director: Pastor Wes Barteck\nTeenagers: Pastor Kevin Sadler and others\nSingles: David and Lorri Brown\nChildren: Sheila\, Rebecca\, Jennifer\, and Terry Wilkinson \nAccommodations: BBF recommends that reservations be made early\, although accommodations are often available for latecomers. For reservations\, please write: Cedar Lake Conference Center\, Reservations Manager\, PO Box 665\, Cedar Lake\, IN 46303\, or phone: 219-374-5941\, or visit: www.cedarlakeministries.org. \nFacilities for travel trailers\, motor homes\, and tent camping include electric/water hook-ups\, dump station\, showers\, etc. \nContact: Pastor Kevin Sadler (BBF President)\nPhone: 262-305-6860\nEmail: kevin@bereanbiblesociety.org
URL:https://www.prisonmission.org/event/dwight-will-be-sharing-pmas-10-year-vision-at-bbf-47th-annual-conference-june-22/
LOCATION:Cedar Lake Conference Center\, Cedar Lake\, IN\, United States
CATEGORIES:Conference
ATTACH;FMTTYPE=image/jpeg:https://www.prisonmission.org/wp-content/uploads/2015/06/Berean-Bible-Fellowship-2015.jpg
END:VEVENT
BEGIN:VEVENT
DTSTART;TZID=America/Chicago:20150528T030000
DTEND;TZID=America/Chicago:20150530T170000
DTSTAMP:20260423T130312
CREATED:20141201T160306Z
LAST-MODIFIED:20141201T160306Z
UID:8182-1432782000-1433005200@www.prisonmission.org
SUMMARY:Dwight speaking at Correctional Ministry Summit at Wheaton College\, IL May 28-30\, 2015
DESCRIPTION:Dwight is excited to be invited this year to be one of the featured speakers in presenting a workshop as part of this conference again! May 28-30 Correctional Ministry Summit at Wheaton College\, IL. It was the best conference Dwight has ever attended. If you are able to come we highly recommend this conference. The workshop Dwight will be presenting is called\, “The Benefit and Power of Correspondence Courses”.  We will also have our Prison Mission Display during the whole conference to connect with as many other prison ministries as we can. Last year there was almost 500 in attendance. \n 
URL:https://www.prisonmission.org/event/may-28-30-correctional-ministry-summit-wheaton-college-il/
LOCATION:Wheaton College\, IL\, United States
CATEGORIES:Conference
ATTACH;FMTTYPE=image/jpeg:https://www.prisonmission.org/wp-content/uploads/2014/11/Correctional-MInistry-Summit-2015-1300x400-1.jpg
END:VEVENT
BEGIN:VEVENT
DTSTART;TZID=America/Chicago:20150421T170000
DTEND;TZID=America/Chicago:20150424T170000
DTSTAMP:20260423T130312
CREATED:20141209T012205Z
LAST-MODIFIED:20141209T012205Z
UID:8180-1429635600-1429894800@www.prisonmission.org
SUMMARY:April 21-24\, 2015. GGF Leadership Conference\, Grand Rapids\, MI
DESCRIPTION:Dwight is looking forward to participating at the GGF Leadership Conference and having PMA display and sharing about Prison Mission. “Catching the Vision” is the theme for pastors/wives and others in church leadership. Join us for this valuable time of teaching\, refreshment\, fellowship and encouragement! www.ggfusa.org for more info.
URL:https://www.prisonmission.org/event/april-21-24-2015-ggf-leadership-conference-grand-rapids-mi/
LOCATION:Grace Bible College\, 1011 Aldon St.\, Wyoming\, MI\, 49509\, United States
CATEGORIES:Conference
ATTACH;FMTTYPE=image/jpeg:https://www.prisonmission.org/wp-content/uploads/2014/12/GGF-leadership-2015.jpg
END:VEVENT
BEGIN:VEVENT
DTSTART;TZID=America/Chicago:20150307T083000
DTEND;TZID=America/Chicago:20150307T133000
DTSTAMP:20260423T130312
CREATED:20150225T224942Z
LAST-MODIFIED:20150225T224942Z
UID:8453-1425717000-1425735000@www.prisonmission.org
SUMMARY:Prison Mission at Leadership Seminar @ Salem Covenant Church\, Sat. Mar.7
DESCRIPTION:Pastor Dwight will be having a Prison Mission Association display at the MCMA Leadership Training event at Salem Covenant Church\, Sat. Mar.7\, 8.30am – 1.30 pm. Pray for a good response from the Leaders as to how God is working to “Reach Prisoners for Christ” with PMA. Pray for our need for more prayer partners\,  volunteers and donations to provide our lessons to inmates at no cost to them.  See below for more info if you are in the area and want to attend you need to pre-register online for a discount.  https://events.r20.constantcontact.com/register/eventReg?oeidk=a07eag61qq715c9ff9e&oseq=&c=26a2a870-9ac0-11e4-9467-d4ae529a8786&ch=26e88b10-9ac0-11e4-947c-d4ae529a8786
URL:https://www.prisonmission.org/event/prison-mission-at-leadership-seminar-salem-covenant-church-sat-mar-7/
LOCATION:Salem Covenant church\, 339 N. 59th Ave. West\, Duluth\, MN\, 55807\, United States
CATEGORIES:Conference
ATTACH;FMTTYPE=image/png:https://www.prisonmission.org/wp-content/uploads/2015/02/salem-cov-church-duluth-siloutte.png
END:VEVENT
BEGIN:VEVENT
DTSTART;TZID=America/Chicago:20150228T110000
DTEND;TZID=America/Chicago:20150228T130000
DTSTAMP:20260423T130312
CREATED:20150120T013153Z
LAST-MODIFIED:20150120T013153Z
UID:8249-1425121200-1425128400@www.prisonmission.org
SUMMARY:Pray for our Prison Mission Board Meeting\, Feb.28\, 2015
DESCRIPTION:We appreciate all our board members and we are looking to expand our board for the new year as we are looking to grow this ministry as God continues to lead and direct us for these exciting opportunities to see lives changed by the power of the Gospel! We moved our board meeting from Feb.21 to Feb.28.
URL:https://www.prisonmission.org/event/pray-prison-mission-board-meeting-feb-21-2015/
LOCATION:Prison Mission Association\, 6549 Sidney Road SW\, Port Orchard\, WA\, 98366\, United States
CATEGORIES:Conference
ATTACH;FMTTYPE=image/jpeg:https://www.prisonmission.org/wp-content/uploads/2014/11/Slide16.jpg
END:VEVENT
BEGIN:VEVENT
DTSTART;TZID=America/Chicago:20150121T190000
DTEND;TZID=America/Chicago:20150122T200000
DTSTAMP:20260423T130312
CREATED:20141124T175731Z
LAST-MODIFIED:20141124T175731Z
UID:8189-1421866800-1421956800@www.prisonmission.org
SUMMARY:Jan. 21-22 Missions Conference in Palm Bay\, FL\, Selfors will represent PMA.
DESCRIPTION:Our very own Prison Mission Spanish Ministry team: Arnie and Sally Selfors will be representing Prison Mission Association on Jan. 21-22\, 2015\, for the Missions Conference at Grace Bible Church in Palm Bay. If you are in the area\, please stop by and meet the Selfors. They have been missionaries in South America and have a tremendous ministry! If you know anyone interested in doing our Life Changing Bible courses in Spanish please contact us.
URL:https://www.prisonmission.org/event/jan-21-22-missions-conference-palm-bay-fl-selfors-will-represent-pma/
LOCATION:Grace Bible Church\, Palm Bay\, 3620 Bayside Lakes Blvd SE \, Palm Bay\, FL\, 32909-0045\, United States
CATEGORIES:Conference
ATTACH;FMTTYPE=image/jpeg:https://www.prisonmission.org/wp-content/uploads/2014/11/Selfors-2014-Spanish-scaled.jpg
END:VEVENT
BEGIN:VEVENT
DTSTART;TZID=America/Chicago:20141122T110000
DTEND;TZID=America/Chicago:20141122T130000
DTSTAMP:20260423T130312
CREATED:20141105T010243Z
LAST-MODIFIED:20141105T010243Z
UID:8057-1416654000-1416661200@www.prisonmission.org
SUMMARY:Pray for our PMA Board Meeting on Nov.22.
DESCRIPTION:Please be in prayer for our Prison Mission Association Board Meeting. We are facing some critical challenges and decisions to make so pray for wisdom. We appreciate each and all their help and support: Ben Wedding\, Minne Vanderhoek\, Chris Nelson\, Steve Moore\, Don Sommer\, Todd Nelson\, Bill Howell and Pastor Dwight Anderson. Please pray for these men.
URL:https://www.prisonmission.org/event/pray-pma-board-meeting-nov-22/
LOCATION:Prison Mission Association\, 6549 Sidney Road SW\, Port Orchard\, WA\, 98366\, United States
CATEGORIES:Conference
ATTACH;FMTTYPE=image/jpeg:https://www.prisonmission.org/wp-content/uploads/2014/11/Slide16.jpg
END:VEVENT
BEGIN:VEVENT
DTSTART;TZID=America/Chicago:20141102T114000
DTEND;TZID=America/Chicago:20141102T123000
DTSTAMP:20260423T130312
CREATED:20141023T142326Z
LAST-MODIFIED:20141023T142326Z
UID:7941-1414928400-1414931400@www.prisonmission.org
SUMMARY:Workshop on “The Benefits and Power of Bible Correspondence Courses” Nov.2
DESCRIPTION:Dwight has been asked to share at the Bethesda Church’s Mission Conference a workshop on “The Benefits and Power of Bible Correspondence Courses”. It will be Sunday\, Nov.2\, 11:40 am followed by lunch at 12:30pm. Please invite a friend and join us for this event. There will be a worship service just prior to the workshop at 10:15am if you want to come for that as well.
URL:https://www.prisonmission.org/event/workshop-benefits-power-bible-correspondence-courses-nov-2/
LOCATION:Bethesda Church\, 15033 Hwy 13 South\, Prior Lake\, MN\, 55372\, United States
CATEGORIES:Conference
ATTACH;FMTTYPE=image/jpeg:https://www.prisonmission.org/wp-content/uploads/2014/10/bible_study_500x375.jpg
END:VEVENT
BEGIN:VEVENT
DTSTART;TZID=America/Chicago:20141004T180000
DTEND;TZID=America/Chicago:20141004T200000
DTSTAMP:20260423T130312
CREATED:20140930T044918Z
LAST-MODIFIED:20140930T044918Z
UID:7890-1412445600-1412452800@www.prisonmission.org
SUMMARY:Missionary Evangelism to Corrections - Fall Event Oct. 4\, 6pm\, 2014
DESCRIPTION:Come to the “People of Hope” at MEC 2014 Fall Event\nPlan to invite others with an interest in evangelism or jail ministry\nMissionary Evangelism to Corrections puts on 85 weekly services in Twin City Jails with the help of 300 volunteers. The Fall Event includes music\, dessert\, testimonies\, & speaker Sheriff Matt Bostrom.\nThe event will be at the North Heights Church\, 1700 Hwy 96 W\, Arden Hills on Saturday\, October 4th.\nFellowship & Program 6:00 – 8:00 pm.\nDwight will have a Prison Mission Display there and we would love for them all to be using our lessons.\nBy attending you help us impact thousands of inmates in the 19 jails in which we minister.\nAdvance sale tickets – $15 \nFree will offering will be taken\nSeating is limited – to order tickets:  Call 651-408-1300 or register here  http://www.mecjailministry.com/fall_event.php
URL:https://www.prisonmission.org/event/missionary-evangelism-corrections-fall-event-oct-4-6pm-2014/
LOCATION:North Heights Lutheran Church\, 1700 Hwy 96 W. \, Arden Hills\, MN\, 55112\, United States
CATEGORIES:Conference
ATTACH;FMTTYPE=image/jpeg:https://www.prisonmission.org/wp-content/uploads/2014/09/MEC-Fall-Event-2014.jpg
END:VEVENT
BEGIN:VEVENT
DTSTART;TZID=America/Chicago:20141004T080000
DTEND;TZID=America/Chicago:20141004T153000
DTSTAMP:20260423T130312
CREATED:20140913T042257Z
LAST-MODIFIED:20140913T042257Z
UID:7870-1412409600-1412436600@www.prisonmission.org
SUMMARY:Sharing PMA at MCMA Church Expo Oct. 4
DESCRIPTION:Pastor Dwight will be sharing and having a display for Prison Mission Association at the MCMA’s Minnesota Church Expo.  There will be a wide range of training\, continuing education and resources for pastors and people. \nThe date for the upcoming 2014 Minnesota Church Expo is Saturday\, October 4\, 2014!  8am-3.30pm.
URL:https://www.prisonmission.org/event/sharing-pma-mcma-church-expo-oct-4/
LOCATION:Edinbrook Church\, 4300 Edinbrook Parkway\, \, Brooklyn Park\, 55443\, United States
CATEGORIES:Conference
ATTACH;FMTTYPE=image/jpeg:https://www.prisonmission.org/wp-content/uploads/2014/09/mcma-church-expo.jpg
END:VEVENT
BEGIN:VEVENT
DTSTART;TZID=America/Chicago:20140818T184500
DTEND;TZID=America/Chicago:20140818T203000
DTSTAMP:20260423T130312
CREATED:20140817T060559Z
LAST-MODIFIED:20140817T060559Z
UID:7816-1408387500-1408393800@www.prisonmission.org
SUMMARY:Discovery Conference- Osceola\, Wisconsin
DESCRIPTION:Les Feldick will be speaking for the Discovery Conference. Pastor Dwight Anderson has been asked to share about what God is doing through Prison Mission Association on Monday night\, Aug.18.   There are over 200 registered now for this conference and will be a real blessing to be a part of this!
URL:https://www.prisonmission.org/event/discovery-conference-osceola-wisconsin/
LOCATION:ARC- Associated Retreat Center\, 2372 30th Ave. \, Osceola\, WI\, 54020\, United States
CATEGORIES:Conference
ATTACH;FMTTYPE=image/jpeg:https://www.prisonmission.org/wp-content/uploads/2014/08/associated-retreat-center.jpg
END:VEVENT
BEGIN:VEVENT
DTSTART;VALUE=DATE:20140716
DTEND;VALUE=DATE:20140720
DTSTAMP:20260423T130312
CREATED:20140702T021652Z
LAST-MODIFIED:20140702T021652Z
UID:7795-1405468800-1405814399@www.prisonmission.org
SUMMARY:Grace Gospel Fellowship Family Bible Conference @ Bethesda Church
DESCRIPTION:Pastor Dwight will be representing Prison Mission Association and having a display there.  General Session Meetings start Wed. 6.30pm-8 pm\, Thursday evening- 6.30pm-8 pm\,  Friday -6.30pm-8 pm\, and Sat. 11 am- 12.30 pm and  finishes after lunch. You can register with Bethesda Church or GGF.  There will also be workshops during the days and service projects on Thursday morning. \nThe power of God’s grace can be experienced in profound ways. The movement of forgiveness\, justice and love has the ability to radically change everything – from our relationship with God to our outlook on everyday life and everything in-between. \nIn his letter to the Christians in Ephesus\, Paul exposes this world-changing grace in a unique\, intriguing way and this summer\, we will dive into this letter and explore how its message impacts the very core of what it means to follow Jesus. Join us!
URL:https://www.prisonmission.org/event/grace-gospel-fellowship-family-bible-conference-bethesda-church/
LOCATION:Happy Independence Day! Testimony of Freedom in Prison!
CATEGORIES:Conference
ATTACH;FMTTYPE=image/jpeg:https://www.prisonmission.org/wp-content/uploads/2014/07/GGF-Bible-Conf-2014_copy.jpg
END:VEVENT
BEGIN:VEVENT
DTSTART;TZID=America/Chicago:20140616T153000
DTEND;TZID=America/Chicago:20140616T163000
DTSTAMP:20260423T130312
CREATED:20140524T010021Z
LAST-MODIFIED:20140524T010021Z
UID:7511-1402932600-1402936200@www.prisonmission.org
SUMMARY:Dwight Sharing at Berean Bible Fellowship Conference\, June 16\, Cedar Lake\, IN.
DESCRIPTION:June 16\, Berean Bible Fellowship Conference at \nCedar Lake Bible Conference Center\n13701 Lauerman StreetCedar Lake\, Indiana 46303
URL:https://www.prisonmission.org/event/dwight-sharing-at-berean-bible-fellowship-conference-june-16-cedar-lake-in/
LOCATION:Cedar Lake Conference Center\, Cedar Lake\, IN\, United States
CATEGORIES:Conference
ATTACH;FMTTYPE=image/jpeg:https://www.prisonmission.org/wp-content/uploads/2014/05/Berean-Bible-Fellowship.jpg
END:VEVENT
BEGIN:VEVENT
DTSTART;TZID=America/Chicago:20140529T080000
DTEND;TZID=America/Chicago:20140601T170000
DTSTAMP:20260423T130312
CREATED:20140523T155606Z
LAST-MODIFIED:20140523T155606Z
UID:7491-1401350400-1401642000@www.prisonmission.org
SUMMARY:IMPACT 2014 | Correctional Ministry Summit
DESCRIPTION:Summit 2014 will be one of the few conferences of its kind\, offering attendees opportunities to worship together\, learn about this challenging population\, network with other serving Christians\, and develop the skills needed for correctional ministry. \nPastor Dwight is excited to have a display booth and the opportunity to network and learn from many doing prison ministries. Pray that we may be able to partner with many of them so they can begin using our Life Changing Free Bible Correspondence Lessons! \nSummit 2014 will begin Thursday with the Pre-Summit Restorative Justice Forum featuring Lisa Rea\, President of Restorative Justice International\, which is open to the public.  The Forum will include a victim’s panel and an expert panel.  Pre-Summit workshops dedicated to skill building will be offered to CMCA members. The Summit will conclude Saturday morning with a general session of dedication and worship.  In between there will be over forty workshops taught by Christians serving the offender population\, and general sessions of inspirational praise and worship.  Our theme – IMPACT. \nSave the date and spread the word to friends and colleagues to join us!    We are building a solid program incorporating the excellent ideas\, input and feedback from CMCA members and friends.
URL:https://www.prisonmission.org/event/impact-2014-correctional-ministry-summit/
LOCATION:Wheaton College\, IL\, United States
CATEGORIES:Conference
ATTACH;FMTTYPE=image/jpeg:https://www.prisonmission.org/wp-content/uploads/2014/05/1002659_801837069829984_972186638_n.jpg
END:VEVENT
END:VCALENDAR