BEGIN:VCALENDAR
VERSION:2.0
PRODID:-//Prison Mission - ECPv6.15.13.1//NONSGML v1.0//EN
CALSCALE:GREGORIAN
METHOD:PUBLISH
X-ORIGINAL-URL:https://www.prisonmission.org
X-WR-CALDESC:Events for Prison Mission
REFRESH-INTERVAL;VALUE=DURATION:PT1H
X-Robots-Tag:noindex
X-PUBLISHED-TTL:PT1H
BEGIN:VTIMEZONE
TZID:America/Chicago
BEGIN:DAYLIGHT
TZOFFSETFROM:-0600
TZOFFSETTO:-0500
TZNAME:CDT
DTSTART:20130310T080000
END:DAYLIGHT
BEGIN:STANDARD
TZOFFSETFROM:-0500
TZOFFSETTO:-0600
TZNAME:CST
DTSTART:20131103T070000
END:STANDARD
BEGIN:DAYLIGHT
TZOFFSETFROM:-0600
TZOFFSETTO:-0500
TZNAME:CDT
DTSTART:20140309T080000
END:DAYLIGHT
BEGIN:STANDARD
TZOFFSETFROM:-0500
TZOFFSETTO:-0600
TZNAME:CST
DTSTART:20141102T070000
END:STANDARD
BEGIN:DAYLIGHT
TZOFFSETFROM:-0600
TZOFFSETTO:-0500
TZNAME:CDT
DTSTART:20150308T080000
END:DAYLIGHT
BEGIN:STANDARD
TZOFFSETFROM:-0500
TZOFFSETTO:-0600
TZNAME:CST
DTSTART:20151101T070000
END:STANDARD
END:VTIMEZONE
BEGIN:VEVENT
DTSTART;TZID=America/Chicago:20141122T110000
DTEND;TZID=America/Chicago:20141122T130000
DTSTAMP:20260423T142744
CREATED:20141105T010243Z
LAST-MODIFIED:20141105T010243Z
UID:8057-1416654000-1416661200@www.prisonmission.org
SUMMARY:Pray for our PMA Board Meeting on Nov.22.
DESCRIPTION:Please be in prayer for our Prison Mission Association Board Meeting. We are facing some critical challenges and decisions to make so pray for wisdom. We appreciate each and all their help and support: Ben Wedding\, Minne Vanderhoek\, Chris Nelson\, Steve Moore\, Don Sommer\, Todd Nelson\, Bill Howell and Pastor Dwight Anderson. Please pray for these men.
URL:https://www.prisonmission.org/event/pray-pma-board-meeting-nov-22/
LOCATION:Prison Mission Association\, 6549 Sidney Road SW\, Port Orchard\, WA\, 98366\, United States
CATEGORIES:Conference
ATTACH;FMTTYPE=image/jpeg:https://www.prisonmission.org/wp-content/uploads/2014/11/Slide16.jpg
END:VEVENT
BEGIN:VEVENT
DTSTART;TZID=America/Chicago:20141102T114000
DTEND;TZID=America/Chicago:20141102T123000
DTSTAMP:20260423T142744
CREATED:20141023T142326Z
LAST-MODIFIED:20141023T142326Z
UID:7941-1414928400-1414931400@www.prisonmission.org
SUMMARY:Workshop on “The Benefits and Power of Bible Correspondence Courses” Nov.2
DESCRIPTION:Dwight has been asked to share at the Bethesda Church’s Mission Conference a workshop on “The Benefits and Power of Bible Correspondence Courses”. It will be Sunday\, Nov.2\, 11:40 am followed by lunch at 12:30pm. Please invite a friend and join us for this event. There will be a worship service just prior to the workshop at 10:15am if you want to come for that as well.
URL:https://www.prisonmission.org/event/workshop-benefits-power-bible-correspondence-courses-nov-2/
LOCATION:Bethesda Church\, 15033 Hwy 13 South\, Prior Lake\, MN\, 55372\, United States
CATEGORIES:Conference
ATTACH;FMTTYPE=image/jpeg:https://www.prisonmission.org/wp-content/uploads/2014/10/bible_study_500x375.jpg
END:VEVENT
BEGIN:VEVENT
DTSTART;TZID=America/Chicago:20141004T180000
DTEND;TZID=America/Chicago:20141004T200000
DTSTAMP:20260423T142744
CREATED:20140930T044918Z
LAST-MODIFIED:20140930T044918Z
UID:7890-1412445600-1412452800@www.prisonmission.org
SUMMARY:Missionary Evangelism to Corrections - Fall Event Oct. 4\, 6pm\, 2014
DESCRIPTION:Come to the “People of Hope” at MEC 2014 Fall Event\nPlan to invite others with an interest in evangelism or jail ministry\nMissionary Evangelism to Corrections puts on 85 weekly services in Twin City Jails with the help of 300 volunteers. The Fall Event includes music\, dessert\, testimonies\, & speaker Sheriff Matt Bostrom.\nThe event will be at the North Heights Church\, 1700 Hwy 96 W\, Arden Hills on Saturday\, October 4th.\nFellowship & Program 6:00 – 8:00 pm.\nDwight will have a Prison Mission Display there and we would love for them all to be using our lessons.\nBy attending you help us impact thousands of inmates in the 19 jails in which we minister.\nAdvance sale tickets – $15 \nFree will offering will be taken\nSeating is limited – to order tickets:  Call 651-408-1300 or register here  http://www.mecjailministry.com/fall_event.php
URL:https://www.prisonmission.org/event/missionary-evangelism-corrections-fall-event-oct-4-6pm-2014/
LOCATION:North Heights Lutheran Church\, 1700 Hwy 96 W. \, Arden Hills\, MN\, 55112\, United States
CATEGORIES:Conference
ATTACH;FMTTYPE=image/jpeg:https://www.prisonmission.org/wp-content/uploads/2014/09/MEC-Fall-Event-2014.jpg
END:VEVENT
BEGIN:VEVENT
DTSTART;TZID=America/Chicago:20141004T080000
DTEND;TZID=America/Chicago:20141004T153000
DTSTAMP:20260423T142744
CREATED:20140913T042257Z
LAST-MODIFIED:20140913T042257Z
UID:7870-1412409600-1412436600@www.prisonmission.org
SUMMARY:Sharing PMA at MCMA Church Expo Oct. 4
DESCRIPTION:Pastor Dwight will be sharing and having a display for Prison Mission Association at the MCMA’s Minnesota Church Expo.  There will be a wide range of training\, continuing education and resources for pastors and people. \nThe date for the upcoming 2014 Minnesota Church Expo is Saturday\, October 4\, 2014!  8am-3.30pm.
URL:https://www.prisonmission.org/event/sharing-pma-mcma-church-expo-oct-4/
LOCATION:Edinbrook Church\, 4300 Edinbrook Parkway\, \, Brooklyn Park\, 55443\, United States
CATEGORIES:Conference
ATTACH;FMTTYPE=image/jpeg:https://www.prisonmission.org/wp-content/uploads/2014/09/mcma-church-expo.jpg
END:VEVENT
BEGIN:VEVENT
DTSTART;TZID=America/Chicago:20140818T184500
DTEND;TZID=America/Chicago:20140818T203000
DTSTAMP:20260423T142744
CREATED:20140817T060559Z
LAST-MODIFIED:20140817T060559Z
UID:7816-1408387500-1408393800@www.prisonmission.org
SUMMARY:Discovery Conference- Osceola\, Wisconsin
DESCRIPTION:Les Feldick will be speaking for the Discovery Conference. Pastor Dwight Anderson has been asked to share about what God is doing through Prison Mission Association on Monday night\, Aug.18.   There are over 200 registered now for this conference and will be a real blessing to be a part of this!
URL:https://www.prisonmission.org/event/discovery-conference-osceola-wisconsin/
LOCATION:ARC- Associated Retreat Center\, 2372 30th Ave. \, Osceola\, WI\, 54020\, United States
CATEGORIES:Conference
ATTACH;FMTTYPE=image/jpeg:https://www.prisonmission.org/wp-content/uploads/2014/08/associated-retreat-center.jpg
END:VEVENT
BEGIN:VEVENT
DTSTART;VALUE=DATE:20140716
DTEND;VALUE=DATE:20140720
DTSTAMP:20260423T142744
CREATED:20140702T021652Z
LAST-MODIFIED:20140702T021652Z
UID:7795-1405468800-1405814399@www.prisonmission.org
SUMMARY:Grace Gospel Fellowship Family Bible Conference @ Bethesda Church
DESCRIPTION:Pastor Dwight will be representing Prison Mission Association and having a display there.  General Session Meetings start Wed. 6.30pm-8 pm\, Thursday evening- 6.30pm-8 pm\,  Friday -6.30pm-8 pm\, and Sat. 11 am- 12.30 pm and  finishes after lunch. You can register with Bethesda Church or GGF.  There will also be workshops during the days and service projects on Thursday morning. \nThe power of God’s grace can be experienced in profound ways. The movement of forgiveness\, justice and love has the ability to radically change everything – from our relationship with God to our outlook on everyday life and everything in-between. \nIn his letter to the Christians in Ephesus\, Paul exposes this world-changing grace in a unique\, intriguing way and this summer\, we will dive into this letter and explore how its message impacts the very core of what it means to follow Jesus. Join us!
URL:https://www.prisonmission.org/event/grace-gospel-fellowship-family-bible-conference-bethesda-church/
LOCATION:Happy Independence Day! Testimony of Freedom in Prison!
CATEGORIES:Conference
ATTACH;FMTTYPE=image/jpeg:https://www.prisonmission.org/wp-content/uploads/2014/07/GGF-Bible-Conf-2014_copy.jpg
END:VEVENT
BEGIN:VEVENT
DTSTART;TZID=America/Chicago:20140616T153000
DTEND;TZID=America/Chicago:20140616T163000
DTSTAMP:20260423T142744
CREATED:20140524T010021Z
LAST-MODIFIED:20140524T010021Z
UID:7511-1402932600-1402936200@www.prisonmission.org
SUMMARY:Dwight Sharing at Berean Bible Fellowship Conference\, June 16\, Cedar Lake\, IN.
DESCRIPTION:June 16\, Berean Bible Fellowship Conference at \nCedar Lake Bible Conference Center\n13701 Lauerman StreetCedar Lake\, Indiana 46303
URL:https://www.prisonmission.org/event/dwight-sharing-at-berean-bible-fellowship-conference-june-16-cedar-lake-in/
LOCATION:Cedar Lake Conference Center\, Cedar Lake\, IN\, United States
CATEGORIES:Conference
ATTACH;FMTTYPE=image/jpeg:https://www.prisonmission.org/wp-content/uploads/2014/05/Berean-Bible-Fellowship.jpg
END:VEVENT
BEGIN:VEVENT
DTSTART;TZID=America/Chicago:20140529T080000
DTEND;TZID=America/Chicago:20140601T170000
DTSTAMP:20260423T142744
CREATED:20140523T155606Z
LAST-MODIFIED:20140523T155606Z
UID:7491-1401350400-1401642000@www.prisonmission.org
SUMMARY:IMPACT 2014 | Correctional Ministry Summit
DESCRIPTION:Summit 2014 will be one of the few conferences of its kind\, offering attendees opportunities to worship together\, learn about this challenging population\, network with other serving Christians\, and develop the skills needed for correctional ministry. \nPastor Dwight is excited to have a display booth and the opportunity to network and learn from many doing prison ministries. Pray that we may be able to partner with many of them so they can begin using our Life Changing Free Bible Correspondence Lessons! \nSummit 2014 will begin Thursday with the Pre-Summit Restorative Justice Forum featuring Lisa Rea\, President of Restorative Justice International\, which is open to the public.  The Forum will include a victim’s panel and an expert panel.  Pre-Summit workshops dedicated to skill building will be offered to CMCA members. The Summit will conclude Saturday morning with a general session of dedication and worship.  In between there will be over forty workshops taught by Christians serving the offender population\, and general sessions of inspirational praise and worship.  Our theme – IMPACT. \nSave the date and spread the word to friends and colleagues to join us!    We are building a solid program incorporating the excellent ideas\, input and feedback from CMCA members and friends.
URL:https://www.prisonmission.org/event/impact-2014-correctional-ministry-summit/
LOCATION:Wheaton College\, IL\, United States
CATEGORIES:Conference
ATTACH;FMTTYPE=image/jpeg:https://www.prisonmission.org/wp-content/uploads/2014/05/1002659_801837069829984_972186638_n.jpg
END:VEVENT
END:VCALENDAR