BEGIN:VCALENDAR
VERSION:2.0
PRODID:-//Prison Mission - ECPv6.15.13.1//NONSGML v1.0//EN
CALSCALE:GREGORIAN
METHOD:PUBLISH
X-WR-CALNAME:Prison Mission
X-ORIGINAL-URL:https://www.prisonmission.org
X-WR-CALDESC:Events for Prison Mission
REFRESH-INTERVAL;VALUE=DURATION:PT1H
X-Robots-Tag:noindex
X-PUBLISHED-TTL:PT1H
BEGIN:VTIMEZONE
TZID:America/Chicago
BEGIN:DAYLIGHT
TZOFFSETFROM:-0600
TZOFFSETTO:-0500
TZNAME:CDT
DTSTART:20240310T080000
END:DAYLIGHT
BEGIN:STANDARD
TZOFFSETFROM:-0500
TZOFFSETTO:-0600
TZNAME:CST
DTSTART:20241103T070000
END:STANDARD
BEGIN:DAYLIGHT
TZOFFSETFROM:-0600
TZOFFSETTO:-0500
TZNAME:CDT
DTSTART:20250309T080000
END:DAYLIGHT
BEGIN:STANDARD
TZOFFSETFROM:-0500
TZOFFSETTO:-0600
TZNAME:CST
DTSTART:20251102T070000
END:STANDARD
BEGIN:DAYLIGHT
TZOFFSETFROM:-0600
TZOFFSETTO:-0500
TZNAME:CDT
DTSTART:20260308T080000
END:DAYLIGHT
BEGIN:STANDARD
TZOFFSETFROM:-0500
TZOFFSETTO:-0600
TZNAME:CST
DTSTART:20261101T070000
END:STANDARD
END:VTIMEZONE
BEGIN:VEVENT
DTSTART;TZID=America/Chicago:20250517T120000
DTEND;TZID=America/Chicago:20250517T170000
DTSTAMP:20260424T075742
CREATED:20241219T162805Z
LAST-MODIFIED:20241121T163807Z
UID:51852-1747483200-1747501200@www.prisonmission.org
SUMMARY:Prison Mission Association Volunteer Appreciation Picnic and board meeting\, Sat. May 17\, 12 noon
DESCRIPTION:PMA Appreciation Picnic – Sat. May 17\, 2025 – 12 noon. THANK YOU to all who pray\, support\, and volunteer!! \nWe are so thankful for each and every one of you. I am so excited to be here in Port Orchard\, WA for this special event. \nJoin us if you can at 6549 Sidney SW Rd.\, Port Orchard\, WA 98367. After the picnic\, we will have our PMA board meeting at 2 pm. \nAs we thank each of you and thank God\, these verses come to my mind: \nAll this is for your benefit\, so that the grace that is reaching more and more people may cause thanksgiving to overflow to the glory of God. 16  Therefore we do not lose heart. Though outwardly we are wasting away\, yet inwardly we are being renewed day by day.\n2 Corinthians 4:15-16
URL:https://www.prisonmission.org/event/prison-mission-association-volunteer-appreciation-picnic-and-board-meeting-sat-may-17-12-noon/
LOCATION:Prison Mission Association\, 6549 Sidney Road SW\, Port Orchard\, WA\, 98366\, United States
CATEGORIES:Leadership Meeting
ATTACH;FMTTYPE=image/jpeg:https://www.prisonmission.org/wp-content/uploads/2016/07/VolunteerPicnic_slide_web_200.jpg
END:VEVENT
END:VCALENDAR