BEGIN:VCALENDAR
VERSION:2.0
PRODID:-//Prison Mission - ECPv6.15.13.1//NONSGML v1.0//EN
CALSCALE:GREGORIAN
METHOD:PUBLISH
X-ORIGINAL-URL:https://www.prisonmission.org
X-WR-CALDESC:Events for Prison Mission
REFRESH-INTERVAL;VALUE=DURATION:PT1H
X-Robots-Tag:noindex
X-PUBLISHED-TTL:PT1H
BEGIN:VTIMEZONE
TZID:America/Chicago
BEGIN:DAYLIGHT
TZOFFSETFROM:-0600
TZOFFSETTO:-0500
TZNAME:CDT
DTSTART:20160313T080000
END:DAYLIGHT
BEGIN:STANDARD
TZOFFSETFROM:-0500
TZOFFSETTO:-0600
TZNAME:CST
DTSTART:20161106T070000
END:STANDARD
BEGIN:DAYLIGHT
TZOFFSETFROM:-0600
TZOFFSETTO:-0500
TZNAME:CDT
DTSTART:20170312T080000
END:DAYLIGHT
BEGIN:STANDARD
TZOFFSETFROM:-0500
TZOFFSETTO:-0600
TZNAME:CST
DTSTART:20171105T070000
END:STANDARD
BEGIN:DAYLIGHT
TZOFFSETFROM:-0600
TZOFFSETTO:-0500
TZNAME:CDT
DTSTART:20180311T080000
END:DAYLIGHT
BEGIN:STANDARD
TZOFFSETFROM:-0500
TZOFFSETTO:-0600
TZNAME:CST
DTSTART:20181104T070000
END:STANDARD
BEGIN:DAYLIGHT
TZOFFSETFROM:-0600
TZOFFSETTO:-0500
TZNAME:CDT
DTSTART:20190310T080000
END:DAYLIGHT
BEGIN:STANDARD
TZOFFSETFROM:-0500
TZOFFSETTO:-0600
TZNAME:CST
DTSTART:20191103T070000
END:STANDARD
BEGIN:DAYLIGHT
TZOFFSETFROM:-0600
TZOFFSETTO:-0500
TZNAME:CDT
DTSTART:20200308T080000
END:DAYLIGHT
BEGIN:STANDARD
TZOFFSETFROM:-0500
TZOFFSETTO:-0600
TZNAME:CST
DTSTART:20201101T070000
END:STANDARD
BEGIN:DAYLIGHT
TZOFFSETFROM:-0600
TZOFFSETTO:-0500
TZNAME:CDT
DTSTART:20210314T080000
END:DAYLIGHT
BEGIN:STANDARD
TZOFFSETFROM:-0500
TZOFFSETTO:-0600
TZNAME:CST
DTSTART:20211107T070000
END:STANDARD
BEGIN:DAYLIGHT
TZOFFSETFROM:-0600
TZOFFSETTO:-0500
TZNAME:CDT
DTSTART:20220313T080000
END:DAYLIGHT
BEGIN:STANDARD
TZOFFSETFROM:-0500
TZOFFSETTO:-0600
TZNAME:CST
DTSTART:20221106T070000
END:STANDARD
BEGIN:DAYLIGHT
TZOFFSETFROM:-0600
TZOFFSETTO:-0500
TZNAME:CDT
DTSTART:20230312T080000
END:DAYLIGHT
BEGIN:STANDARD
TZOFFSETFROM:-0500
TZOFFSETTO:-0600
TZNAME:CST
DTSTART:20231105T070000
END:STANDARD
BEGIN:DAYLIGHT
TZOFFSETFROM:-0600
TZOFFSETTO:-0500
TZNAME:CDT
DTSTART:20240310T080000
END:DAYLIGHT
BEGIN:STANDARD
TZOFFSETFROM:-0500
TZOFFSETTO:-0600
TZNAME:CST
DTSTART:20241103T070000
END:STANDARD
BEGIN:DAYLIGHT
TZOFFSETFROM:-0600
TZOFFSETTO:-0500
TZNAME:CDT
DTSTART:20250309T080000
END:DAYLIGHT
BEGIN:STANDARD
TZOFFSETFROM:-0500
TZOFFSETTO:-0600
TZNAME:CST
DTSTART:20251102T070000
END:STANDARD
BEGIN:DAYLIGHT
TZOFFSETFROM:-0600
TZOFFSETTO:-0500
TZNAME:CDT
DTSTART:20260308T080000
END:DAYLIGHT
BEGIN:STANDARD
TZOFFSETFROM:-0500
TZOFFSETTO:-0600
TZNAME:CST
DTSTART:20261101T070000
END:STANDARD
BEGIN:DAYLIGHT
TZOFFSETFROM:-0600
TZOFFSETTO:-0500
TZNAME:CDT
DTSTART:20270314T080000
END:DAYLIGHT
BEGIN:STANDARD
TZOFFSETFROM:-0500
TZOFFSETTO:-0600
TZNAME:CST
DTSTART:20271107T070000
END:STANDARD
END:VTIMEZONE
BEGIN:VTIMEZONE
TZID:America/Los_Angeles
BEGIN:DAYLIGHT
TZOFFSETFROM:-0800
TZOFFSETTO:-0700
TZNAME:PDT
DTSTART:20160313T100000
END:DAYLIGHT
BEGIN:STANDARD
TZOFFSETFROM:-0700
TZOFFSETTO:-0800
TZNAME:PST
DTSTART:20161106T090000
END:STANDARD
BEGIN:DAYLIGHT
TZOFFSETFROM:-0800
TZOFFSETTO:-0700
TZNAME:PDT
DTSTART:20170312T100000
END:DAYLIGHT
BEGIN:STANDARD
TZOFFSETFROM:-0700
TZOFFSETTO:-0800
TZNAME:PST
DTSTART:20171105T090000
END:STANDARD
BEGIN:DAYLIGHT
TZOFFSETFROM:-0800
TZOFFSETTO:-0700
TZNAME:PDT
DTSTART:20180311T100000
END:DAYLIGHT
BEGIN:STANDARD
TZOFFSETFROM:-0700
TZOFFSETTO:-0800
TZNAME:PST
DTSTART:20181104T090000
END:STANDARD
BEGIN:DAYLIGHT
TZOFFSETFROM:-0800
TZOFFSETTO:-0700
TZNAME:PDT
DTSTART:20190310T100000
END:DAYLIGHT
BEGIN:STANDARD
TZOFFSETFROM:-0700
TZOFFSETTO:-0800
TZNAME:PST
DTSTART:20191103T090000
END:STANDARD
BEGIN:DAYLIGHT
TZOFFSETFROM:-0800
TZOFFSETTO:-0700
TZNAME:PDT
DTSTART:20200308T100000
END:DAYLIGHT
BEGIN:STANDARD
TZOFFSETFROM:-0700
TZOFFSETTO:-0800
TZNAME:PST
DTSTART:20201101T090000
END:STANDARD
BEGIN:DAYLIGHT
TZOFFSETFROM:-0800
TZOFFSETTO:-0700
TZNAME:PDT
DTSTART:20210314T100000
END:DAYLIGHT
BEGIN:STANDARD
TZOFFSETFROM:-0700
TZOFFSETTO:-0800
TZNAME:PST
DTSTART:20211107T090000
END:STANDARD
BEGIN:DAYLIGHT
TZOFFSETFROM:-0800
TZOFFSETTO:-0700
TZNAME:PDT
DTSTART:20220313T100000
END:DAYLIGHT
BEGIN:STANDARD
TZOFFSETFROM:-0700
TZOFFSETTO:-0800
TZNAME:PST
DTSTART:20221106T090000
END:STANDARD
BEGIN:DAYLIGHT
TZOFFSETFROM:-0800
TZOFFSETTO:-0700
TZNAME:PDT
DTSTART:20230312T100000
END:DAYLIGHT
BEGIN:STANDARD
TZOFFSETFROM:-0700
TZOFFSETTO:-0800
TZNAME:PST
DTSTART:20231105T090000
END:STANDARD
END:VTIMEZONE
BEGIN:VEVENT
DTSTART;TZID=America/Chicago:20260207T130000
DTEND;TZID=America/Chicago:20260207T170000
DTSTAMP:20260423T144814
CREATED:20251208T184010Z
LAST-MODIFIED:20251208T184010Z
UID:52226-1770469200-1770483600@www.prisonmission.org
SUMMARY:Prison Mission Association Board Meeting\, Sat. Feb. 7\, 1 pm (PST)
DESCRIPTION:Please pray for our Prison Mission Association board meeting Sat. Feb. 7\, 1 pm (Pacific time) meeting on Zoom. We appreciate all our board members who faithfully serve. We are so thankful how God continues to lead and direct us for these exciting opportunities to see lives changed by the power of the Gospel!
URL:https://www.prisonmission.org/event/prison-mission-association-board-meeting-sat-feb-7-1-pm-pst/
CATEGORIES:Leadership Meeting
ATTACH;FMTTYPE=image/png:https://www.prisonmission.org/wp-content/uploads/2014/03/prisson-mission.png
END:VEVENT
BEGIN:VEVENT
DTSTART;TZID=America/Chicago:20251115T130000
DTEND;TZID=America/Chicago:20251115T170000
DTSTAMP:20260423T144814
CREATED:20250915T181511Z
LAST-MODIFIED:20250915T181511Z
UID:52118-1763211600-1763226000@www.prisonmission.org
SUMMARY:Prison Mission Association Board Meeting\, Sat. Nov. 15\, 1 pm (PST)
DESCRIPTION:Please pray for our Prison Mission Association board meeting Sat. Nov. 15\, 1 pm (Pacific time) meeting on Zoom. We appreciate all our board members who faithfully serve. We are so thankful how God continues to lead and direct us for these exciting opportunities to see lives changed by the power of the Gospel!
URL:https://www.prisonmission.org/event/prison-mission-association-board-meeting-sat-nov-15-1-pm-pst/
CATEGORIES:Leadership Meeting
ATTACH;FMTTYPE=image/png:https://www.prisonmission.org/wp-content/uploads/2014/03/prisson-mission.png
END:VEVENT
BEGIN:VEVENT
DTSTART;TZID=America/Chicago:20250517T120000
DTEND;TZID=America/Chicago:20250517T170000
DTSTAMP:20260423T144814
CREATED:20241219T162805Z
LAST-MODIFIED:20241121T163807Z
UID:51852-1747483200-1747501200@www.prisonmission.org
SUMMARY:Prison Mission Association Volunteer Appreciation Picnic and board meeting\, Sat. May 17\, 12 noon
DESCRIPTION:PMA Appreciation Picnic – Sat. May 17\, 2025 – 12 noon. THANK YOU to all who pray\, support\, and volunteer!! \nWe are so thankful for each and every one of you. I am so excited to be here in Port Orchard\, WA for this special event. \nJoin us if you can at 6549 Sidney SW Rd.\, Port Orchard\, WA 98367. After the picnic\, we will have our PMA board meeting at 2 pm. \nAs we thank each of you and thank God\, these verses come to my mind: \nAll this is for your benefit\, so that the grace that is reaching more and more people may cause thanksgiving to overflow to the glory of God. 16  Therefore we do not lose heart. Though outwardly we are wasting away\, yet inwardly we are being renewed day by day.\n2 Corinthians 4:15-16
URL:https://www.prisonmission.org/event/prison-mission-association-volunteer-appreciation-picnic-and-board-meeting-sat-may-17-12-noon/
LOCATION:Prison Mission Association\, 6549 Sidney Road SW\, Port Orchard\, WA\, 98366\, United States
CATEGORIES:Leadership Meeting
ATTACH;FMTTYPE=image/jpeg:https://www.prisonmission.org/wp-content/uploads/2016/07/VolunteerPicnic_slide_web_200.jpg
END:VEVENT
BEGIN:VEVENT
DTSTART;TZID=America/Chicago:20230729T120000
DTEND;TZID=America/Chicago:20230729T140000
DTSTAMP:20260423T144814
CREATED:20230608T175231Z
LAST-MODIFIED:20230608T175231Z
UID:51629-1690632000-1690639200@www.prisonmission.org
SUMMARY:Prison Mission Association Volunteer Appreciation Picnic and board meeting July 29. 12 noon
DESCRIPTION:PMA Appreciation Picnic – Sat. July 29\, 2023 – 12 noon. THANK YOU to all who pray\, support\, and volunteer!! \nWe are so thankful for each and every one of you. I am so excited to be here in Port Orchard\, WA for this special event. \nJoin us if you can at 6549 Sidney SW Rd. \, Port Orchard\, WA 98367. After the picnic\, we will have our PMA board meeting. \nAs we thank each of you and thank God\, these verses come to my mind: \nAll this is for your benefit\, so that the grace that is reaching more and more people may cause thanksgiving to overflow to the glory of God. 16  Therefore we do not lose heart. Though outwardly we are wasting away\, yet inwardly we are being renewed day by day.\n2 Corinthians 4:15-16   \n 
URL:https://www.prisonmission.org/event/prison-mission-association-volunteer-appreciation-picnic-and-board-meeting-july-29-12-noon/
LOCATION:Prison Mission Association\, 6549 Sidney Road SW\, Port Orchard\, WA\, 98366\, United States
CATEGORIES:Leadership Meeting
ATTACH;FMTTYPE=image/jpeg:https://www.prisonmission.org/wp-content/uploads/2016/07/VolunteerPicnic_slide_web_200.jpg
END:VEVENT
BEGIN:VEVENT
DTSTART;TZID=America/Chicago:20220825T180000
DTEND;TZID=America/Chicago:20220825T210000
DTSTAMP:20260423T144814
CREATED:20220823T062930Z
LAST-MODIFIED:20220823T062930Z
UID:50750-1661450400-1661461200@www.prisonmission.org
SUMMARY:Come to see Pastor Dwight and Darlene\, Thurs. Aug. 25\, 6pm @ Coffee Club\, Penrith\, NSW
DESCRIPTION:Come to see Pastor Dwight and Darlene\, Thurs. Aug. 25\, 6pm @ Coffee Club\,  78 – 88 Tench Ave\, Penrith\, NSW\, Australia\, 2750 \nPh. 02-4724-9701 \nWe look forward to seeing many of our Aussie Friends who are dear friends.
URL:https://www.prisonmission.org/event/come-to-see-pastor-dwight-and-darlene-thurs-aug-25-6pm-coffee-club-penrith-nsw/
LOCATION:Coffee Club\, 78 - 88 Tench Ave\,\, Penrith\, N\, Australia
CATEGORIES:Leadership Meeting
ATTACH;FMTTYPE=image/jpeg:https://www.prisonmission.org/wp-content/uploads/2022/08/coffee-club.jpg
END:VEVENT
BEGIN:VEVENT
DTSTART;TZID=America/Chicago:20220716T120000
DTEND;TZID=America/Chicago:20220716T143000
DTSTAMP:20260423T144814
CREATED:20220716T151933Z
LAST-MODIFIED:20220716T151933Z
UID:50702-1657972800-1657981800@www.prisonmission.org
SUMMARY:PMA Appreciation Picnic - Sat. July 16\, 2022 - 12 noon. THANK YOU!
DESCRIPTION:PMA Appreciation Picnic – Sat. July 16\, 2022 – 12 noon. THANK YOU to all who pray\, support and volunteer!! \nWe are so thankful for each and every one of you. I am so excited to be here in Port Orchard\, WA for this special event. \nJoin us if you can at 6549 Sidney SW Rd. \, Port Orchard\, WA 98367. \nAs we thank each of you and thank God\, these verses come to my mind: \nAll this is for your benefit\, so that the grace that is reaching more and more people may cause thanksgiving to overflow to the glory of God. 16  Therefore we do not lose heart. Though outwardly we are wasting away\, yet inwardly we are being renewed day by day.\n2 Corinthians 4:15-16   \n 
URL:https://www.prisonmission.org/event/pma-appreciation-picnic-sat-july-16-2022-12-noon-thank-you/
LOCATION:Prison Mission Association\, 6549 Sidney Road SW\, Port Orchard\, WA\, 98366\, United States
CATEGORIES:Leadership Meeting
ATTACH;FMTTYPE=image/jpeg:https://www.prisonmission.org/wp-content/uploads/2022/07/picnic-invite.jpg
END:VEVENT
BEGIN:VEVENT
DTSTART;TZID=America/Los_Angeles:20220205T130000
DTEND;TZID=America/Los_Angeles:20220205T170000
DTSTAMP:20260423T144814
CREATED:20220203T163512Z
LAST-MODIFIED:20220203T163512Z
UID:50517-1644066000-1644080400@www.prisonmission.org
SUMMARY:Pray for our Prison Mission Board Meeting\, Feb. 5\, 1 pm pacific time.
DESCRIPTION:Please pray for our Prison Mission Association board meeting Sat. Feb. 5\, 1 pm (Pacific time) meeting on Zoom. We appreciate all our board members who faithfully serve. We are so thankful how God continues to lead and direct us for these exciting opportunities to see lives changed by the power of the Gospel! \nPlease note\, we are missing two board members in the photo\, Aileen Richmond and David Rupers.
URL:https://www.prisonmission.org/event/pray-for-our-prison-mission-board-meeting-feb-5-1-pm-pacific-time/
CATEGORIES:Leadership Meeting
ATTACH;FMTTYPE=image/jpeg:https://www.prisonmission.org/wp-content/uploads/2022/02/pma-board.jpg
END:VEVENT
BEGIN:VEVENT
DTSTART;TZID=America/Chicago:20210311T190000
DTEND;TZID=America/Chicago:20210311T203000
DTSTAMP:20260423T144814
CREATED:20201229T233425Z
LAST-MODIFIED:20201229T233425Z
UID:49940-1615489200-1615494600@www.prisonmission.org
SUMMARY:Dwight speaking at Justice Mercy Prayer Initiative March 11 at 7pm
DESCRIPTION:Join us for Justice Mercy Prayer Initiative which meets on the second Thursday of each month at 7 pm on zoom. Pastor Dwight will be sharing about what God doing behind bars and how to pray for these ministries\, March 11\,  7 pm. \n\nPlease contact Ann Monikowski for more information and zoom link – Email: annmonikowski016@gmail.com\nPhone/text: 952-432-5990\n\nThe Justice-Mercy Prayer Initiative is a city-wide monthly prayer gathering of people interceding together\, in unity\, for the immense needs surrounding our Minnesota correctional system. We understand that the fight for justice and mercy cannot be fought by human effort alone but must be fought through the power of prayer.
URL:https://www.prisonmission.org/event/dwight-speaking-at-justice-mercy-prayer-initiative-march-11-at-7pm/
LOCATION:Unnamed Venue\, twin cities\, MN\, United States
CATEGORIES:Leadership Meeting
ATTACH;FMTTYPE=image/jpeg:https://www.prisonmission.org/wp-content/uploads/2020/12/for-website-justice-mercy-prayer-initiative-with-logo.jpg
END:VEVENT
BEGIN:VEVENT
DTSTART;TZID=America/Los_Angeles:20210306T100000
DTEND;TZID=America/Los_Angeles:20210306T120000
DTSTAMP:20260423T144814
CREATED:20200105T233455Z
LAST-MODIFIED:20210306T022238Z
UID:49944-1615024800-1615032000@www.prisonmission.org
SUMMARY:Pray for PMA Board Meeting - March 6\, 10 am Pacific Time
DESCRIPTION:Please pray for our Prison Mission Association board meeting Sat. March 6\, 10 am (Pacific time) meeting on Zoom. We appreciate all our board members who faithfully serve. We are so thankful for how God continues to lead and direct us for these exciting opportunities to see lives changed by the power of the Gospel! Pray about some new initiatives and we need some more new board members.
URL:https://www.prisonmission.org/event/pray-for-pma-board-meeting-march-6-1-pm-pacific-time/
LOCATION:Zoom\, Zoom.us
CATEGORIES:Leadership Meeting
ATTACH;FMTTYPE=image/jpeg:https://www.prisonmission.org/wp-content/uploads/2020/02/sm-pma-board.jpg
END:VEVENT
BEGIN:VEVENT
DTSTART;TZID=America/Chicago:20201205T130000
DTEND;TZID=America/Chicago:20201205T130000
DTSTAMP:20260423T144814
CREATED:20201015T042433Z
LAST-MODIFIED:20201015T042433Z
UID:17188-1607173200-1607173200@www.prisonmission.org
SUMMARY:Pray for our Prison Mission Board Meeting\, Dec. 5\, 1 pm pacific time.
DESCRIPTION:Please pray for our Prison Mission Association board meeting Sat. Dec 5\, 1 pm (Pacific time) meeting on Zoom. We appreciate all our board members who faithfully serve.  We are so thankful how God continues to lead and direct us for these exciting opportunities to see lives changed by the power of the Gospel!
URL:https://www.prisonmission.org/event/pray-prison-mission-board-meeting-nov-21-1-pm-pacific-time/
CATEGORIES:Leadership Meeting
ATTACH;FMTTYPE=image/jpeg:https://www.prisonmission.org/wp-content/uploads/2020/02/sm-pma-board.jpg
END:VEVENT
BEGIN:VEVENT
DTSTART;TZID=America/Chicago:20200505T180000
DTEND;TZID=America/Chicago:20200507T170000
DTSTAMP:20260423T144814
CREATED:20200309T001016Z
LAST-MODIFIED:20200309T001016Z
UID:10417-1588701600-1588870800@www.prisonmission.org
SUMMARY:Pray for Pastor Dwight May 5-7\, 2020 @ GGF Leadership Conference\, Grand Rapids\, MI
DESCRIPTION:Pastor Dwight is looking forward to participating at the GGF Leadership Conference and having a PMA display and sharing about Prison Mission\, May 5-7\, 2020\, at Grace Christian University. Wyoming\, Michigan.\nhttp://ggfusa.org/calendar-item/leadership-conference-2020/
URL:https://www.prisonmission.org/event/pray-pastor-dwight-may-5-7-2020-ggf-leadership-conference-grand-rapids-mi/
LOCATION:Grace Christian University\, 1011 Aldon St. SW\, Wyoming\, MI\, 49509\, United States
CATEGORIES:Leadership Meeting
ATTACH;FMTTYPE=image/jpeg:https://www.prisonmission.org/wp-content/uploads/2020/03/GGF2020ConferenceImage-300x194-1.jpg
END:VEVENT
BEGIN:VEVENT
DTSTART;TZID=America/Chicago:20200221T160000
DTEND;TZID=America/Chicago:20200223T130000
DTSTAMP:20260423T144814
CREATED:20200220T194241Z
LAST-MODIFIED:20200220T194241Z
UID:10407-1582300800-1582462800@www.prisonmission.org
SUMMARY:Please pray for PMA Vision Building Retreat- Feb.21-23 at Seabeck Conference Center\, WA
DESCRIPTION:Please pray for our PMA Vision Building Retreat this Friday\, Feb. 21- 23\, 2020. We are so blessed how God has answered so many prayers and for the many new supporters and volunteers this past year. We plan to have some prayer times seeking God and His will for the future of PMA so we appreciate your prayers for this time to reflect and seek the Lord this weekend. We are thrilled how God is helping us to fulfill His mission and vision to reach prisoners for Christ!
URL:https://www.prisonmission.org/event/please-pray-pma-vision-building-retreat-feb-21-23-seabeck-conference-center-wa/
LOCATION:Seabeck Conference Center\, 13395 Lagoon Drive NW\, \, Seabeck\, WA\,  98380\, United States
CATEGORIES:Leadership Meeting
ATTACH;FMTTYPE=image/jpeg:https://www.prisonmission.org/wp-content/uploads/2020/02/sm-pma-board.jpg
END:VEVENT
BEGIN:VEVENT
DTSTART;TZID=America/Chicago:20191023T080000
DTEND;TZID=America/Chicago:20191024T130000
DTSTAMP:20260423T144814
CREATED:20191023T125811Z
LAST-MODIFIED:20191023T125811Z
UID:10361-1571817600-1571922000@www.prisonmission.org
SUMMARY:Please Pray for Grace Gospel Fellowship Theology Summit Oct 22-24 Frankfort\, IL
DESCRIPTION:Please be in prayer for Pastor Dwight and all the leaders in the Grace Gospel Fellowship meeting this week for a Grace Gospel Fellowship Theology Summit at the Maitoqua Retreat Center in Frankfort\, IL. Dwight has PMA literature out and connecting with Pastors and Leaders this week there!
URL:https://www.prisonmission.org/event/please-pray-grace-gospel-fellowship-theology-summit-oct-22-24-frankfort-il/
LOCATION:Manitoqua Retreat Center\, Frankfort\, IL\, United States
CATEGORIES:Leadership Meeting
ATTACH;FMTTYPE=image/png:https://www.prisonmission.org/wp-content/uploads/2019/10/manitoqua-retreat-center-GGF-summitt.png
END:VEVENT
BEGIN:VEVENT
DTSTART;TZID=America/Chicago:20190928T113000
DTEND;TZID=America/Chicago:20190928T140000
DTSTAMP:20260423T144814
CREATED:20190907T041735Z
LAST-MODIFIED:20190907T041735Z
UID:10332-1569670200-1569679200@www.prisonmission.org
SUMMARY:Prison Mission Association Volunteer Appreciation Picnic and board meeting Sept. 28. 11:30 am
DESCRIPTION:Please pray for our Prison Mission Association Volunteer Appreciation Picnic and board meeting Sat. Sept.28 11.30 am (Pacific time) at the PMA Headquarters\, Port Orchard\, WA\,  We appreciate all our board members who faithfully serve.  We are so thankful how God continues to lead and direct us for these exciting opportunities to see lives changed by the power of the Gospel! \nThe board meeting will start at 3 pm.
URL:https://www.prisonmission.org/event/prison-mission-association-volunteer-appreciation-picnic-board-meeting-sept-28-1130/
LOCATION:Prison Mission Association\, 6549 Sidney Road SW\, Port Orchard\, WA\, 98366\, United States
CATEGORIES:Leadership Meeting
ATTACH;FMTTYPE=image/jpeg:https://www.prisonmission.org/wp-content/uploads/2016/07/VolunteerPicnic_slide_web_200.jpg
END:VEVENT
BEGIN:VEVENT
DTSTART;TZID=America/Los_Angeles:20180127T130000
DTEND;TZID=America/Los_Angeles:20180127T150000
DTSTAMP:20260423T144814
CREATED:20171127T040358Z
LAST-MODIFIED:20171127T040358Z
UID:9799-1517058000-1517065200@www.prisonmission.org
SUMMARY:Pray for our Prison Mission Board Meeting\, Jan. 27\, 2018
DESCRIPTION:Please pray for our Prison Mission Association board meeting  Sat. Jan.27\,  1 pm (pacific time) at the Berean Bible Church\, Shoreline\, WA\,  planning the new budget for 2018 for expansion of this ministry and growing our outreach to reach more inmates for Christ! We appreciate all our board members who faithfully serve. We are so thankful how God continues to lead and direct us for these exciting opportunities to see lives changed by the power of the Gospel!
URL:https://www.prisonmission.org/event/pray-prison-mission-board-meeting-jan-27-2018/
LOCATION:Berean Bible Church – Shoreline\, WA\, 2345 N 185th St\,\,  Shoreline\, \, WA\, 98133\, United States
CATEGORIES:Leadership Meeting
ATTACH;FMTTYPE=image/jpeg:https://www.prisonmission.org/wp-content/uploads/2014/11/prayerrequest.jpg
END:VEVENT
BEGIN:VEVENT
DTSTART;TZID=America/Chicago:20171015T190000
DTEND;TZID=America/Chicago:20171021T210000
DTSTAMP:20260423T144814
CREATED:20171014T064638Z
LAST-MODIFIED:20171014T064638Z
UID:9692-1508094000-1508619600@www.prisonmission.org
SUMMARY:Pastor Dwight invited to Men Encouraging Men Logging Camp- Gillett\, Wi- Oct. 15-22
DESCRIPTION:Pastor Dwight invited to Men Encouraging Men Logging Camp- Gillett\, Wi- Oct. 15-22 \nThis week will be a time to take the logs from last years camp and build a 24×52″ log building. We will be preparing peeled logs for construction\, pouring concrete\, constructing the building\, making shingles to roof the building and each night we will have a time of fellowship and teaching from God’s Word. Pastor Dan Wolgast has organized this with a team of men so pray for this time to come together as men and encourage one another to grow in all areas to be the Men of God\,  we want to be!!
URL:https://www.prisonmission.org/event/pastor-dwight-invited-men-encouraging-men-logging-camp-gillett-wi-oct-15-22/
LOCATION:Northern Grace Youth Camp- undeveloped land\, 12700 Cty Rd VV\, Gillett\, WI\, 54124\, United States
CATEGORIES:Leadership Meeting
ATTACH;FMTTYPE=image/jpeg:https://www.prisonmission.org/wp-content/uploads/2017/10/mens-logging-camp.jpg
END:VEVENT
BEGIN:VEVENT
DTSTART;TZID=America/Chicago:20170909T113000
DTEND;TZID=America/Chicago:20170909T140000
DTSTAMP:20260423T144814
CREATED:20170903T011331Z
LAST-MODIFIED:20170903T011331Z
UID:9672-1504956600-1504965600@www.prisonmission.org
SUMMARY:Please pray for our Prison Mission Association board meeting and Volunteer appreciation picnic Sept 9
DESCRIPTION:Please pray for our Prison Mission Association Volunteer Appreciation Picnic and board meeting this sat. 11.30 am (pacific time) at the PMA Headquarters\, Port Orchard\, WA\,  We appreciate all our board members who faithfully serve.  We are so thankful how God continues to lead and direct us for these exciting opportunities to see lives changed by the power of the Gospel!
URL:https://www.prisonmission.org/event/please-pray-prison-mission-association-board-meeting-volunteer-appreciation-picnic-sept-9/
LOCATION:Prison Mission Association\, 6549 Sidney Road SW\, Port Orchard\, WA\, 98366\, United States
CATEGORIES:Leadership Meeting
ATTACH;FMTTYPE=image/jpeg:https://www.prisonmission.org/wp-content/uploads/2016/07/VolunteerPicnic_slide_web_200.jpg
END:VEVENT
BEGIN:VEVENT
DTSTART;TZID=America/Chicago:20170506T150000
DTEND;TZID=America/Chicago:20170506T170000
DTSTAMP:20260423T144814
CREATED:20170506T194447Z
LAST-MODIFIED:20170506T194447Z
UID:9592-1494082800-1494090000@www.prisonmission.org
SUMMARY:Pray for our Prison Mission Board Meeting\, May 6\, 2017
DESCRIPTION:Please pray for our Prison Mission Association board meeting this sat. 1 pm (pacific time) at the Berean Bible Church\, Shoreline\, WA\,  planning the expansion of this ministry and growing our outreach to reach more inmates for Christ! We appreciate all our board members who faithfully serve.  We are so thankful how God continues to lead and direct us for these exciting opportunities to see lives changed by the power of the Gospel!
URL:https://www.prisonmission.org/event/pray-prison-mission-board-meeting-may-6-2017/
LOCATION:Berean Bible Church – Shoreline\, WA\, 2345 N 185th St\,\,  Shoreline\, \, WA\, 98133\, United States
CATEGORIES:Leadership Meeting
END:VEVENT
BEGIN:VEVENT
DTSTART;TZID=America/Los_Angeles:20170121T130000
DTEND;TZID=America/Los_Angeles:20170121T150000
DTSTAMP:20260423T144814
CREATED:20170119T043154Z
LAST-MODIFIED:20170119T043154Z
UID:9523-1485003600-1485010800@www.prisonmission.org
SUMMARY:Pray for our Prison Mission Board Meeting\, Jan. 21\, 2017
DESCRIPTION:Please pray for our Prison Mission Association board meeting this sat. 1 pm (pacific time) as we plan for this coming year of ministry and expanding our outreach to reach more inmates for Christ! We appreciate all our board members who faithfully serve.  We are so thankful how God continues to lead and direct us for these exciting opportunities to see lives changed by the power of the Gospel!
URL:https://www.prisonmission.org/event/pray-prison-mission-board-meeting-jan-21-2017/
LOCATION:Prison Mission Association\, 6549 Sidney Road SW\, Port Orchard\, WA\, 98366\, United States
CATEGORIES:Leadership Meeting
ATTACH;FMTTYPE=image/jpeg:https://www.prisonmission.org/wp-content/uploads/2014/11/Slide16.jpg
END:VEVENT
END:VCALENDAR