BEGIN:VCALENDAR
VERSION:2.0
PRODID:-//Prison Mission - ECPv6.15.13.1//NONSGML v1.0//EN
CALSCALE:GREGORIAN
METHOD:PUBLISH
X-ORIGINAL-URL:https://www.prisonmission.org
X-WR-CALDESC:Events for Prison Mission
REFRESH-INTERVAL;VALUE=DURATION:PT1H
X-Robots-Tag:noindex
X-PUBLISHED-TTL:PT1H
BEGIN:VTIMEZONE
TZID:America/Chicago
BEGIN:DAYLIGHT
TZOFFSETFROM:-0600
TZOFFSETTO:-0500
TZNAME:CDT
DTSTART:20130310T080000
END:DAYLIGHT
BEGIN:STANDARD
TZOFFSETFROM:-0500
TZOFFSETTO:-0600
TZNAME:CST
DTSTART:20131103T070000
END:STANDARD
BEGIN:DAYLIGHT
TZOFFSETFROM:-0600
TZOFFSETTO:-0500
TZNAME:CDT
DTSTART:20140309T080000
END:DAYLIGHT
BEGIN:STANDARD
TZOFFSETFROM:-0500
TZOFFSETTO:-0600
TZNAME:CST
DTSTART:20141102T070000
END:STANDARD
BEGIN:DAYLIGHT
TZOFFSETFROM:-0600
TZOFFSETTO:-0500
TZNAME:CDT
DTSTART:20150308T080000
END:DAYLIGHT
BEGIN:STANDARD
TZOFFSETFROM:-0500
TZOFFSETTO:-0600
TZNAME:CST
DTSTART:20151101T070000
END:STANDARD
BEGIN:DAYLIGHT
TZOFFSETFROM:-0600
TZOFFSETTO:-0500
TZNAME:CDT
DTSTART:20160313T080000
END:DAYLIGHT
BEGIN:STANDARD
TZOFFSETFROM:-0500
TZOFFSETTO:-0600
TZNAME:CST
DTSTART:20161106T070000
END:STANDARD
END:VTIMEZONE
BEGIN:VEVENT
DTSTART;TZID=America/Chicago:20151001T080000
DTEND;TZID=America/Chicago:20151001T150000
DTSTAMP:20260424T090529
CREATED:20150917T034514Z
LAST-MODIFIED:20150917T034514Z
UID:8932-1443686400-1443711600@www.prisonmission.org
SUMMARY:Pray for PMA outreach at Moose Lake Correctional\, Oct.1\, Transitional Fair!
DESCRIPTION:Please pray for Pastor Dwight who will setup a Prison Mission Association display\, Thurs. Oct. 1  at Moose Lakes Prison and talk to several hundred  inmates who will be coming in groups every 30 minutes to talk to us about our correspondence courses. Pray for many to enroll and that we can help them transition by grounding them in God’s Word and principles as they are released within 15 months. We will be there from 8 am to 3.30 pm.  In previous fairs we have had between 69- 104  inmates enroll for our Bible Correspondence courses at each prison! We are praying for a similar response here!
URL:https://www.prisonmission.org/event/pray-for-pma-outreach-at-moose-lake-correctional-oct-1-transitional-fair/
LOCATION:Moose Lake Correctional\, 1000 Lake Shore Drive \, Moose Lake \,  55767\, United States
CATEGORIES:Outreach Event
ATTACH;FMTTYPE=image/jpeg:https://www.prisonmission.org/wp-content/uploads/2015/09/adult-facilities-willow-river-moose-lake.jpg
END:VEVENT
BEGIN:VEVENT
DTSTART;TZID=America/Chicago:20150912T100000
DTEND;TZID=America/Chicago:20150912T170000
DTSTAMP:20260424T090529
CREATED:20150912T124949Z
LAST-MODIFIED:20150912T124949Z
UID:8922-1442052000-1442077200@www.prisonmission.org
SUMMARY:Visiting Indianapolis Reentry Education Facility with Coalition of Prison Evangelists!
DESCRIPTION:Pastor Dwight is excited to be able to visit with a team of Coalition of Prison Evangelists (COPE)\, this facility while visiting Indianapolis\, Sept.12.  The Indianapolis Reentry Educational facility uses best correctional practices to protect the public while providing residents the skills for successful reintegration into the community with the goal of reducing recidivism. \n  \nWe also will be visiting The Jesus House\, http://www.jipm.org/JIPM/Jesus_House.html  Jesus House\, an aftercare ministry of Jesus Inside Prison Ministry and the Indianapolis Pastor’s Gathering\, is truly a place of restoration and preparation for ex-offenders who have turned to Christ and are being released from incarceration. Some 80% of all men who enter prison are released within four years; most having served time for nonviolent offenses. One of the great failures of our correctional system is the inability of the system to truly reform men so that they do not return to the same social condition and behaviors which led to crime in the first place. \nJesus Inside Prison Ministry (JIPM)\, founded by Pastor William Bumphus\, is dedicated both in turning people from crime to Christ and providing effective aftercare. For more than 19 years\, Pastor Bumphus has travelled to prisons in and outside Indiana preaching the Word to tens of thousands of offenders. Over the years\, a great number of men have been born again\, released from prison\, and are living productive lives.
URL:https://www.prisonmission.org/event/visiting-indianapolis-reentry-education-facility-with-coalition-of-prison-evangelists/
LOCATION:Indianapolis Reentry Education Facility\, 401 N Randolph St\,\,  Indianapolis\, \, IN\, 46201\, United States
CATEGORIES:Outreach Event
ATTACH;FMTTYPE=image/png:https://www.prisonmission.org/wp-content/uploads/2015/09/Indianapolis-Reentry-Education-Facility2.png
END:VEVENT
BEGIN:VEVENT
DTSTART;TZID=America/Chicago:20150831T080000
DTEND;TZID=America/Chicago:20150831T170000
DTSTAMP:20260424T090529
CREATED:20150713T184037Z
LAST-MODIFIED:20150713T184037Z
UID:8812-1441008000-1441040400@www.prisonmission.org
SUMMARY:Prison Mission invited to do 90 Min. workshop at Sandstone Fed. Prison\, Mon. Aug.31.
DESCRIPTION:Pray for our first ever workshop in a Federal Prison. We will be partnering with Norm Andersen\, who will be sharing on the “12 Seeds for Successful Relationships” and Pastor Dwight will be offering our Bible Correspondence courses in both English and Spanish. We will be having a 90 minute workshop in the morning and possibly one after lunch if there is enough signed up. So pray for a great response and many will want to study God’s Word. We have a grant that enables us to provide a copy of the book for each inmate that will attend.  For more info on the book see http://www.12seeds.org/
URL:https://www.prisonmission.org/event/prison-mission-invited-to-do-90-min-workshop-at-sandstone-fed-prison-mon-aug-31/
LOCATION:Sandstone Federal Prison\, 2300 County Rd 29\, \, Sandstone\, MN\, 55072\, United States
CATEGORIES:Outreach Event
ATTACH;FMTTYPE=image/jpeg:https://www.prisonmission.org/wp-content/uploads/2015/07/sandstone-fed-prison.jpg
END:VEVENT
BEGIN:VEVENT
DTSTART;TZID=America/Chicago:20150830T084500
DTEND;TZID=America/Chicago:20150830T100000
DTSTAMP:20260424T090529
CREATED:20150714T180850Z
LAST-MODIFIED:20150714T180850Z
UID:8815-1440924300-1440928800@www.prisonmission.org
SUMMARY:Outreach to Oak Park Heights\, MN Prison – Aug. 30
DESCRIPTION:Pastor Dwight\, Don\, Rindy\, Julia\, and Lynna from Bethesda Church will be leading an outreach service\, Sunday\, Aug.30\, 9 am to 10 am. We expect about 20 inmates. Please pray for the Holy Spirit’s leading and working in each person’s heart. We will be sharing a Prison Mission lesson with them on “Dealing with the demons of the past” Philippians 3:13-14 and encourage them to enroll in our Life Changing Bible Correspondence courses.  Click here to download Dealing with the Demons of the Past lesson. \nThe Oak Park Heights Minnesota Correctional Facility in Stillwater holds the most violent offenders in the Minnesota Department of Corrections. With only the 432 beds it is small by comparison to other prisons in America but just as dangerous.
URL:https://www.prisonmission.org/event/outreach-to-oak-park-heights-mn-prison-aug-30/
LOCATION:Oak Park Heights Prison\, 5329 Osgood Ave N\, Oak Park Heights\, 55082\, United States
CATEGORIES:Outreach Event
ATTACH;FMTTYPE=image/jpeg:https://www.prisonmission.org/wp-content/uploads/2014/06/oak-park-heights-prison-mn-sign.jpg
END:VEVENT
BEGIN:VEVENT
DTSTART;TZID=America/Chicago:20150728T080000
DTEND;TZID=America/Chicago:20150728T153000
DTSTAMP:20260424T090529
CREATED:20150710T150737Z
LAST-MODIFIED:20150710T150737Z
UID:8808-1438070400-1438097400@www.prisonmission.org
SUMMARY:Bibles needed for Outreach at Lino Lakes \, MN Prison\, July 28!
DESCRIPTION:Please pray for Pastor Dwight and PMA team who will setup a Prison Mission Association display\, Tues\, July 28  at Lino Lakes Prison and talk to several hundred  inmates who will be coming in groups every 30 minutes to talk to us about our correspondence courses. Pray for many to enroll and that we can help them transition by grounding them in God’s Word and principles as they are released within 15 months. We will be there from 8 am to 3.30 pm. Last month\, at Faribault Prison\, we had 87 inmates enroll for our Bible Correspondence courses. We are praying for a similar response here! \nPray for our Urgent need for New or used paperback Bibles to give out in the prisons for each of these transitional fairs. If you have any new or used paperback full Bibles\, please call Pastor Dwight- 612-423-3457. If possible some large print would be really helpful as well. \n 
URL:https://www.prisonmission.org/event/bibles-needed-for-outreach-at-lino-lakes-mn-prison-july-28/
LOCATION:The Minnesota Correctional Facility-Lino Lakes\, 7525 4th Ave\, \, Lino Lakes\, MN\, 55014\, United States
CATEGORIES:Outreach Event
ATTACH;FMTTYPE=image/jpeg:https://www.prisonmission.org/wp-content/uploads/2015/06/donatebible-icon.jpg
END:VEVENT
BEGIN:VEVENT
DTSTART;TZID=America/Chicago:20150626T080000
DTEND;TZID=America/Chicago:20150626T170000
DTSTAMP:20260424T090529
CREATED:20150526T180505Z
LAST-MODIFIED:20150526T180505Z
UID:8684-1435305600-1435338000@www.prisonmission.org
SUMMARY:PMA rep Steve McFarland is going to Cowboy Camp- sharing June 26!
DESCRIPTION:We are blessed to have our PMA Ambassador\, Steve McFarland and his wife\, Lyn\, sharing what God is doing in jails and prisons on June 26\, 2015 at the BDTLB Family Bible Conference & Cowboy Camp in Livonia\, MO. The camp is June 21-26 at Camp Victory\, 44025 198th St\, Livonia\, MO 63551  (660) 355-4438 \nPlease be in prayer for this ministry of our dear friend\, Cowboy Lee Homoki and the  3 Cowboy Camps this summer.   The purpose of the camp is to bring young people ages 12 and over together for week of fun and Spiritual enrichment all centering around the life of the old west and the cowboy. \nFor more info www.bibledoctrines.org/ministries/cowboy-adventure-camp/
URL:https://www.prisonmission.org/event/pma-rep-steve-mcfarland-is-going-to-cowboy-camp-sharing-june-26/
LOCATION:Camp Victory\, 44025 198th St\, \, Livonia\, MO\, 63551\, United States
CATEGORIES:Outreach Event
ATTACH;FMTTYPE=image/jpeg:https://www.prisonmission.org/wp-content/uploads/2015/05/Steve-sharing-with-teens-for-web.jpg
END:VEVENT
BEGIN:VEVENT
DTSTART;TZID=America/Chicago:20150623T070000
DTEND;TZID=America/Chicago:20150623T150000
DTSTAMP:20260424T090529
CREATED:20150527T180852Z
LAST-MODIFIED:20150527T180852Z
UID:8691-1435042800-1435071600@www.prisonmission.org
SUMMARY:Pray for PMA outreach at Rush City Correctional\, June 23\, Transitional Fair!
DESCRIPTION:Please pray for Bob and Lynna who will setup a Prison Mission Association display and talk to over 400 inmates who will be coming in groups every 30 minutes to talk to us about our correspondence courses. Pray for many to enroll and that we can help them transition by grounding them in God’s Word and principles as they are released within 15 months. We will be there from 7 am to 3 pm. Last month\, at St. Cloud Prison\, we had 68 inmates enroll for our Bible Correspondence courses. We are praying for a similar response here! \nMCF-Rush City\,  7600 525th Street\, Rush City\, MN 55069
URL:https://www.prisonmission.org/event/pray-for-pma-outreach-at-rush-city-correctional-june-23-transitional-fair/
LOCATION:MCF-Rush City\,  7600 525th Street\,  Rush City\, MN\, 55069\, United States
CATEGORIES:Outreach Event
ATTACH;FMTTYPE=image/jpeg:https://www.prisonmission.org/wp-content/uploads/2015/05/adult-facilities-rush-city.jpg
END:VEVENT
BEGIN:VEVENT
DTSTART;TZID=America/Chicago:20150609T070000
DTEND;TZID=America/Chicago:20150609T150000
DTSTAMP:20260424T090529
CREATED:20150603T141332Z
LAST-MODIFIED:20150603T141332Z
UID:8698-1433833200-1433862000@www.prisonmission.org
SUMMARY:Bibles needed for Outreach in Faribault\, MN Prison\, June 9!
DESCRIPTION:Please pray for Pastor Dwight and his friend\, Bill who will setup a Prison Mission Association display\, Tues\, June 9 and talk to over 500 inmates who will be coming in groups every 30 minutes to talk to us about our correspondence courses. Pray for many to enroll and that we can help them transition by grounding them in God’s Word and principles as they are released within 15 months. We will be there from 7 am to 3 pm. Last month\, at St. Cloud Prison\, we had 68 inmates enroll for our Bible Correspondence courses. We are praying for a similar response here! \nPray for our Urgent need for New or used paperback Bibles to give out in the prisons for each of these transitional fairs. If you have any new or used paperback full Bibles\, please call Pastor Dwight- 612-423-3457. If possible some large print would be really helpful as well.
URL:https://www.prisonmission.org/event/bibles-needed-for-outreach-in-faribault-mn-prison-june-9/
LOCATION:MA
CATEGORIES:Outreach Event
ATTACH;FMTTYPE=image/jpeg:https://www.prisonmission.org/wp-content/uploads/2015/06/donatebible-icon.jpg
END:VEVENT
BEGIN:VEVENT
DTSTART;TZID=America/Chicago:20150513T070000
DTEND;TZID=America/Chicago:20150513T130000
DTSTAMP:20260424T090529
CREATED:20150509T144607Z
LAST-MODIFIED:20150509T144607Z
UID:8656-1431500400-1431522000@www.prisonmission.org
SUMMARY:Pastor Dwight invited to speak to 300 at St. Cloud Prison\, May 13
DESCRIPTION:Please pray for Pastor Dwight as have been invited to setup a Prison Mission Association display and talk to over 300 inmates who will be coming in groups every 30 minutes to talk to us about our correspondence courses. Pray for many to enroll and that we can help them transition by grounding them in God’s Word and principles as they are released within 15 months. We will be there from 7 am to 1 pm. Last month\, at Shakopee Womens Prison\, we had 104 inmates enroll for our Bible Correspondence courses. We are praying for a similar response here!
URL:https://www.prisonmission.org/event/pastor-dwight-invited-to-speak-to-300-at-st-cloud-prison-may-13/
LOCATION:Minnesota Correctional Facility- St Cloud\, 2305 Minnesota Blvd.\, \, St. Cloud\,\, MN\, 56304-2424\, United States
CATEGORIES:Outreach Event
ATTACH;FMTTYPE=image/jpeg:https://www.prisonmission.org/wp-content/uploads/2015/05/20130410_st-cloud-prison_33.jpg
END:VEVENT
BEGIN:VEVENT
DTSTART;TZID=America/Chicago:20150414T080000
DTEND;TZID=America/Chicago:20150414T140000
DTSTAMP:20260424T090529
CREATED:20150409T200233Z
LAST-MODIFIED:20150409T200233Z
UID:8549-1428998400-1429020000@www.prisonmission.org
SUMMARY:Prison Mission at Shakopee Women's Correctional Center Transition Fair\, April 14
DESCRIPTION:We have a great opportunity to setup a display and talk to over 300 inmates who will be coming in groups every 30 minutes to talk to us about our correspondence courses. Pray for many to enroll and that we can help them transition as they are released within 18 months. We will be there from 8 am to 2 pm.
URL:https://www.prisonmission.org/event/prison-mission-at-shakopee-womens-correctional-center-transition-fair-april-14/
LOCATION:MINNESOTA CORRECTIONAL FACILITY – SHAKOPEE\, 1010 West Sixth Avenue \, Shakopee\,\, MN\, 55379
CATEGORIES:Outreach Event
ATTACH;FMTTYPE=image/jpeg:https://www.prisonmission.org/wp-content/uploads/2015/04/shakopee-prison-sign4.jpg
END:VEVENT
BEGIN:VEVENT
DTSTART;TZID=America/Chicago:20150329T090000
DTEND;TZID=America/Chicago:20150329T103000
DTSTAMP:20260424T090529
CREATED:20150326T185714Z
LAST-MODIFIED:20150326T185714Z
UID:8501-1427619600-1427625000@www.prisonmission.org
SUMMARY:Outreach to Oak Park Heights Prison\, Sun. Mar.29
DESCRIPTION:Pastor Dwight and Lynna from Bethesda Church will be leading an outreach service\, Sunday\, March 29\, 9 am to 10 am. We expect about 20 inmates. Please pray for the Holy Spirit’s leading and working in each person’s heart. We will be sharing a Prison Mission lesson on “The Blessings of Easter” with them and encourage them to enroll in our Life Changing Bible Correspondence courses.  Click here to download this Easter lesson. \nThe Oak Park Heights Minnesota Correctional Facility in Stillwater holds the most violent offenders in the Minnesota Department of Corrections. With only the 432 beds it is small by comparison to other prisons in America but just as dangerous. 
URL:https://www.prisonmission.org/event/outreach-to-oak-park-heights-prison-sun-mar-29/
LOCATION:Oak Park Heights Prison\, 5329 Osgood Ave N\, Oak Park Heights\, 55082\, United States
CATEGORIES:Outreach Event
ATTACH;FMTTYPE=image/jpeg:https://www.prisonmission.org/wp-content/uploads/2014/06/oak-park-heights-prison-mn-sign.jpg
END:VEVENT
BEGIN:VEVENT
DTSTART;TZID=America/Chicago:20150321T083000
DTEND;TZID=America/Chicago:20150321T133000
DTSTAMP:20260424T090529
CREATED:20150320T161505Z
LAST-MODIFIED:20150320T161505Z
UID:8488-1426926600-1426944600@www.prisonmission.org
SUMMARY:Join us in reaching out this Sat.! Time to Revive! Mar. 21\, 8.30 am
DESCRIPTION:Pastor Dwight is excited to  have the privilege to be part of what God is doing to reach the twin city metro as 60 churches are working together to reach out with the gospel. Join us Sat. March 21st\, 8:30 a.m. – 1:30 p.m.\, at Our Savior’s Lutheran Church\, 23290 Hwy. 7\, Excelsior\, MN 55331. If you are interested in participating please register online www.revivetwincities.org   Pray for a good turnout and that we are able to have the opportunity to share Christ with many.
URL:https://www.prisonmission.org/event/join-us-in-reaching-out-this-sat-time-to-revive-mar-21-8-30-am/
LOCATION:Our Savior’s Lutheran Church\,\, 23290 Hwy. 7\,\,  Excelsior\, MN\, 55331\, United States
CATEGORIES:Outreach Event
ATTACH;FMTTYPE=image/jpeg:https://www.prisonmission.org/wp-content/uploads/2014/07/dwight-and-kyle-martin-revive-twincities.jpg
END:VEVENT
BEGIN:VEVENT
DTSTART;TZID=America/Chicago:20150221T140000
DTEND;TZID=America/Chicago:20150221T190000
DTSTAMP:20260424T090529
CREATED:20150220T060014Z
LAST-MODIFIED:20150220T060014Z
UID:8432-1424527200-1424545200@www.prisonmission.org
SUMMARY:Join us as part of Revive Twin Cities Outreach this Sat.!
DESCRIPTION:Join us as part of Revive Twin Cities Outreach this Saturday!  What a joy to Share the Gospel of God’s Grace! \nCheck-in starts at 1:30pm.   Sat. February 21\, 2015\, 2 pm – 6:45 pm \nPrayer\, worship & outreach! they will be serving dinner as well before the worship time. \n*Praise and worship event led by vocalists from Heart of the City at 7pm* \nLocation:\nSt. Paul’s Evangelical Lutheran Church\n1901 Portland Avenue S.\nMinneapolis \, MN 55404
URL:https://www.prisonmission.org/event/join-us-part-revive-twin-cities-outreach-sat/
LOCATION:St Paul’s Lutheran Church\, 1901 Portland Ave. S.\, Minneapolis\, MN\, United States
CATEGORIES:Outreach Event
ATTACH;FMTTYPE=image/jpeg:https://www.prisonmission.org/wp-content/uploads/2015/02/20150129_211448000_iOS.jpg
END:VEVENT
BEGIN:VEVENT
DTSTART;TZID=America/Chicago:20150124T083000
DTEND;TZID=America/Chicago:20150124T133000
DTSTAMP:20260424T090529
CREATED:20141203T155638Z
LAST-MODIFIED:20141203T155638Z
UID:8240-1422088200-1422106200@www.prisonmission.org
SUMMARY:Join us for prayer and outreach- Revive TwinCities\, Sat. Jan. 24\, 2015
DESCRIPTION:Another great opportunity to pray for our city and work together as over 60 local churches and groups like Prison Mission to reach out and connect with people who need to hear about the Hope we have in Jesus with Revive Twincities www.revivetwincities.org . Come and join us\, it is amazing how God works each time to lead us to people who we can pray for and share the gospel! Each month we meet at different participating churches\, this month we meet at 8.30 am at Lighthouse Christian Church\, 3285 144th st W\, Rosmount\, MN 55068. After prayer we go out in teams of three to areas around the twin city metro and then come back at 12.30pm to share what God has done!! \nplease use this link to register: https://www.eventbrite.com/e/revivetwin-cities-january-outreach-follow-up-registration-14642926387
URL:https://www.prisonmission.org/event/join-us-prayer-outreach-revive-twincities-sat-jan-24-2015/
LOCATION:Lighthouse Christian Church\, 3285 144th St W\,  \, Rosemount\,\, MN\, 55068\, United States
CATEGORIES:Outreach Event
ATTACH;FMTTYPE=image/jpeg:https://www.prisonmission.org/wp-content/uploads/2014/12/revive-twincities-large-group.jpg
END:VEVENT
BEGIN:VEVENT
DTSTART;TZID=America/Chicago:20141130T083500
DTEND;TZID=America/Chicago:20141130T100000
DTSTAMP:20260424T090529
CREATED:20141104T004807Z
LAST-MODIFIED:20141104T004807Z
UID:8056-1417336500-1417341600@www.prisonmission.org
SUMMARY:Outreach to Oak Park Heights Prison- Nov.30
DESCRIPTION:Please pray for Pastor Dwight and the team from Bethesda Church as they have another outreach to Oak Park Heights prison in Oak Park Heights\, MN.
URL:https://www.prisonmission.org/event/outreach-oak-park-heights-prison-nov-30/
LOCATION:Oak Park Heights Prison\, 5329 Osgood Ave N\, Oak Park Heights\, 55082\, United States
CATEGORIES:Outreach Event
ATTACH;FMTTYPE=image/jpeg:https://www.prisonmission.org/wp-content/uploads/2014/06/oak-park-heights-prison-mn-sign.jpg
END:VEVENT
BEGIN:VEVENT
DTSTART;VALUE=DATE:20141123
DTEND;VALUE=DATE:20141124
DTSTAMP:20260424T090529
CREATED:20141104T012056Z
LAST-MODIFIED:20141104T012056Z
UID:8060-1416700800-1416787199@www.prisonmission.org
SUMMARY:Outreach to Washington Correctional Facility- Shelton\, WA Nov.23
DESCRIPTION:Please be in prayer for this outreach Sunday\, Nov.23. Most of our PMA board members will be able to help with this. Here is photo of the team for our last outreach at Shelton.
URL:https://www.prisonmission.org/event/outreach-washington-correctional-facility-shelton-wa-nov-23/
LOCATION:Washington Correctional Center\, 2321 W Dayton Airport Rd\, \, Shelton\, WA\, 98584\, United States
CATEGORIES:Outreach Event
ATTACH;FMTTYPE=image/jpeg:https://www.prisonmission.org/wp-content/uploads/2014/11/better-aug25WCC-scaled.jpg
END:VEVENT
BEGIN:VEVENT
DTSTART;TZID=America/Chicago:20141122T083000
DTEND;TZID=America/Chicago:20141122T133000
DTSTAMP:20260424T090529
CREATED:20141113T145613Z
LAST-MODIFIED:20141113T145613Z
UID:8098-1416645000-1416663000@www.prisonmission.org
SUMMARY:Join us for Revive Twin Cities Outreach - Nov.22\, 2014
DESCRIPTION:Great news!! Many have been led to the Lord at our Revive Twin cities outreaches the past few months and many seeds planted.  Have you seen/shared the ‪#‎reviveTWINCITIES‬ :: Summary Video on YouTube? http://ow.ly/Ecfs7\n \nWe go out once per month and meet at one of the 60 participating churches at 8.30am to pray and then go out into the community to share the gospel. We meet back at the church at 12.30pm share and pray together and it ends about 1.30pm. \nPray for more laborers and also for the many people who have heard the gospel  and for those have made decisions for Christ! \nJoin us -Saturday\, November 22\, 2014 from 8:30 AM to 1:30 PM\nPlymouth Covenant\n4300 Vicksburg Lane N\nPlymouth\, MN 55446\n\n\nThanks for your prayers\,
URL:https://www.prisonmission.org/event/join-us-revive-twin-cities-outreach-nov-22-2014/
LOCATION:Plymouth Covenant\, 4300 Vicksburg Lane N\, Plymouth\, MN\, 55446\, United States
CATEGORIES:Outreach Event
ATTACH;FMTTYPE=image/jpeg:https://www.prisonmission.org/wp-content/uploads/2014/07/dwight-and-kyle-martin-revive-twincities.jpg
END:VEVENT
BEGIN:VEVENT
DTSTART;TZID=America/Chicago:20141011T140000
DTEND;TZID=America/Chicago:20141011T170000
DTSTAMP:20260424T090529
CREATED:20141001T183936Z
LAST-MODIFIED:20141001T183936Z
UID:7894-1413036000-1413046800@www.prisonmission.org
SUMMARY:Street Outreach in downtown Cumberland\, MD  Sat. Oct. 11
DESCRIPTION:As part of our Grace for Revival Conference\, we will be taking those interested to the streets of downtown Cumberland\, MD. to share the gospel. We will have “Am I going to Heaven?” booklets in Spanish and English to give out. We will also have a prayer team praying for us. If you are in the area\, please contact me if you are interested in going out with us. Not sure on exact timing. it will be after lunch and the train ride to Frostburg.
URL:https://www.prisonmission.org/event/street-outreach-downtown-cumberland-md-oct-11/
LOCATION:Unnamed Venue\, Cumberland\, MD\, United States
CATEGORIES:Outreach Event
ATTACH;FMTTYPE=image/jpeg:https://www.prisonmission.org/wp-content/uploads/2014/10/am_i_going_to_heaven.jpg
END:VEVENT
BEGIN:VEVENT
DTSTART;TZID=America/Chicago:20140831T090000
DTEND;TZID=America/Chicago:20140831T100000
DTSTAMP:20260424T090529
CREATED:20140830T035818Z
LAST-MODIFIED:20140830T035818Z
UID:7841-1409475600-1409479200@www.prisonmission.org
SUMMARY:Outreach to Oak Park Heights\, MN Prison - Aug. 31
DESCRIPTION:Pray for us at we visit this Sunday\, Aug. 31 and share in the Oak Park Heights level 5 prison.  Last month we had about 13 men come and very hungry for the Word of God.
URL:https://www.prisonmission.org/event/outreach-oak-park-heights-mn-prison-aug-31/
LOCATION:Oak Park Heights Prison\, 5329 Osgood Ave N\, Oak Park Heights\, 55082\, United States
CATEGORIES:Outreach Event
ATTACH;FMTTYPE=image/jpeg:https://www.prisonmission.org/wp-content/uploads/2014/06/oak-park-heights-prison-mn-sign.jpg
END:VEVENT
BEGIN:VEVENT
DTSTART;VALUE=DATE:20140824
DTEND;VALUE=DATE:20140825
DTSTAMP:20260424T090529
CREATED:20140817T061550Z
LAST-MODIFIED:20140817T061550Z
UID:7819-1408838400-1408924799@www.prisonmission.org
SUMMARY:Outreach at Washington Correctional Center at Shelton\, WA
DESCRIPTION:Please be in prayer for our annual outreach at the Washington Correctional Center at Shelton\, WA.  Pastor Dwight Anderson and many of the PMA board members will be sharing all day starting at 8am til 4 pm. They are allowing us to do multiple sessions all day to get to share with all the inmates! We will be having a short time of worship at each session\, testimonies\, and then go through our introductory Bible study.  Pray for those who will trust in Christ\, for those who may need to re-commit themselves to Christ and for those we challenge to do our correspondence courses.
URL:https://www.prisonmission.org/event/outreach-washington-correctional-center-shelton-wa/
LOCATION:Washington Correctional Center\, 2321 W Dayton Airport Rd\, \, Shelton\, WA\, 98584\, United States
CATEGORIES:Outreach Event
ATTACH;FMTTYPE=image/jpeg:https://www.prisonmission.org/wp-content/uploads/2014/08/wcc-shelton-wa.jpg
END:VEVENT
BEGIN:VEVENT
DTSTART;TZID=America/Chicago:20140721T080000
DTEND;TZID=America/Chicago:20140727T170000
DTSTAMP:20260424T090529
CREATED:20140524T012543Z
LAST-MODIFIED:20140524T012543Z
UID:7521-1405929600-1406480400@www.prisonmission.org
SUMMARY:Revive Twin Cities - July 21-27\, 2014
DESCRIPTION:Time to Revive – Who are You? Pastor Dwight Anderson has been asked by Dr. Kyle Martin\, of  Time to Revive\, Richardson\, TX\,  to help organize the outreach to jails and prisons in the Twin Cities as part of Revive Twin Cities outreach campaign which is bringing all the churches together to share the gospel the last week of July!  We are praying for 10\,000 laborers to help us reach out. please contact us if you can help one day or any time that week in July. We have training and youtube videos you can check out at: http://www.youtube.com/user/TimetoRevive7
URL:https://www.prisonmission.org/event/revive-twin-cities-july-21-27-2014/
LOCATION:North High School\, 1801 Fremont Ave N.\, Minneapolis\, MN\, United States
CATEGORIES:Outreach Event
ATTACH;FMTTYPE=image/jpeg:https://www.prisonmission.org/wp-content/uploads/2014/05/twin_cities.jpg
END:VEVENT
BEGIN:VEVENT
DTSTART;TZID=America/Chicago:20140629T084500
DTEND;TZID=America/Chicago:20140629T100000
DTSTAMP:20260424T090529
CREATED:20140625T041929Z
LAST-MODIFIED:20140625T041929Z
UID:7742-1404031500-1404036000@www.prisonmission.org
SUMMARY:Outreach at Oak Park Heights Correctional Facility
DESCRIPTION:Pastor Dwight and team from Bethesda Church will be leading an outreach service\, Sunday\, June 29\, 8.45am to 10 am. We expect about 20 inmates. Please pray for Holy Spirit’s leading and working in each person’s heart. We will be sharing Prison Mission lesson 1 with them and encourage them to enroll in our Life Changing Bible Correspondence courses. \nThe Oak Park Heights Minnesota Correctional Facility in Stillwater holds the most violent offenders in the Minnesota Department of Corrections. With only the 432 beds it is small by comparison to other prisons in America but just as dangerous. 
URL:https://www.prisonmission.org/event/outreach-oak-park-heights-correctional-facility/
LOCATION:Oak Park Heights Prison\, 5329 Osgood Ave N\, Oak Park Heights\, 55082\, United States
CATEGORIES:Outreach Event
ATTACH;FMTTYPE=image/jpeg:https://www.prisonmission.org/wp-content/uploads/2014/06/oak-park-heights-prison-mn-sign.jpg
END:VEVENT
END:VCALENDAR