BEGIN:VCALENDAR
VERSION:2.0
PRODID:-//Prison Mission - ECPv6.15.13.1//NONSGML v1.0//EN
CALSCALE:GREGORIAN
METHOD:PUBLISH
X-ORIGINAL-URL:https://www.prisonmission.org
X-WR-CALDESC:Events for Prison Mission
REFRESH-INTERVAL;VALUE=DURATION:PT1H
X-Robots-Tag:noindex
X-PUBLISHED-TTL:PT1H
BEGIN:VTIMEZONE
TZID:America/Chicago
BEGIN:DAYLIGHT
TZOFFSETFROM:-0600
TZOFFSETTO:-0500
TZNAME:CDT
DTSTART:20220313T080000
END:DAYLIGHT
BEGIN:STANDARD
TZOFFSETFROM:-0500
TZOFFSETTO:-0600
TZNAME:CST
DTSTART:20221106T070000
END:STANDARD
BEGIN:DAYLIGHT
TZOFFSETFROM:-0600
TZOFFSETTO:-0500
TZNAME:CDT
DTSTART:20230312T080000
END:DAYLIGHT
BEGIN:STANDARD
TZOFFSETFROM:-0500
TZOFFSETTO:-0600
TZNAME:CST
DTSTART:20231105T070000
END:STANDARD
BEGIN:DAYLIGHT
TZOFFSETFROM:-0600
TZOFFSETTO:-0500
TZNAME:CDT
DTSTART:20240310T080000
END:DAYLIGHT
BEGIN:STANDARD
TZOFFSETFROM:-0500
TZOFFSETTO:-0600
TZNAME:CST
DTSTART:20241103T070000
END:STANDARD
END:VTIMEZONE
BEGIN:VEVENT
DTSTART;TZID=America/Chicago:20230730T110000
DTEND;TZID=America/Chicago:20230730T120000
DTSTAMP:20260425T195917
CREATED:20230608T175903Z
LAST-MODIFIED:20230608T175903Z
UID:51630-1690714800-1690718400@www.prisonmission.org
SUMMARY:Pastor Dwight preaching at GBC\, Port Orchard\, WA this Sunday 11 am\, July 30
DESCRIPTION:Pastor Dwight has been invited to preach at Grace Bible Church\, Sunday\, July 30 at 11 am in Port Orchard\, WA.\nCome and learn from God’s word and also about what God is doing in and through Prison Mission Association!\n\nGrace Bible Church\n 7070 Bethel Burley Rd SE\nPort Orchard\, WA 98367\nTel: (360) 876-3200\n\nhttps://www.gbcpo.org/
URL:https://www.prisonmission.org/event/pastor-dwight-preaching-at-gbc-port-orchard-wa-this-sunday-11-am-july-30/
LOCATION:Grace Bible Church- Port Orchard\, 7070 Bethel Burley Rd SE  \, Port Orchard\, WA\, 98367 \, United States
CATEGORIES:Speaking at Churches
ATTACH;FMTTYPE=image/jpeg:https://www.prisonmission.org/wp-content/uploads/2018/04/grace-bible-church-port-orchard-wa.jpg
END:VEVENT
END:VCALENDAR