BEGIN:VCALENDAR
VERSION:2.0
PRODID:-//Prison Mission - ECPv6.15.13.1//NONSGML v1.0//EN
CALSCALE:GREGORIAN
METHOD:PUBLISH
X-WR-CALNAME:Prison Mission
X-ORIGINAL-URL:https://www.prisonmission.org
X-WR-CALDESC:Events for Prison Mission
REFRESH-INTERVAL;VALUE=DURATION:PT1H
X-Robots-Tag:noindex
X-PUBLISHED-TTL:PT1H
BEGIN:VTIMEZONE
TZID:America/Chicago
BEGIN:DAYLIGHT
TZOFFSETFROM:-0600
TZOFFSETTO:-0500
TZNAME:CDT
DTSTART:20240310T080000
END:DAYLIGHT
BEGIN:STANDARD
TZOFFSETFROM:-0500
TZOFFSETTO:-0600
TZNAME:CST
DTSTART:20241103T070000
END:STANDARD
BEGIN:DAYLIGHT
TZOFFSETFROM:-0600
TZOFFSETTO:-0500
TZNAME:CDT
DTSTART:20250309T080000
END:DAYLIGHT
BEGIN:STANDARD
TZOFFSETFROM:-0500
TZOFFSETTO:-0600
TZNAME:CST
DTSTART:20251102T070000
END:STANDARD
BEGIN:DAYLIGHT
TZOFFSETFROM:-0600
TZOFFSETTO:-0500
TZNAME:CDT
DTSTART:20260308T080000
END:DAYLIGHT
BEGIN:STANDARD
TZOFFSETFROM:-0500
TZOFFSETTO:-0600
TZNAME:CST
DTSTART:20261101T070000
END:STANDARD
END:VTIMEZONE
BEGIN:VEVENT
DTSTART;TZID=America/Chicago:20250412T100000
DTEND;TZID=America/Chicago:20250412T120000
DTSTAMP:20260424T082510
CREATED:20250407T174748Z
LAST-MODIFIED:20250407T185655Z
UID:51939-1744452000-1744459200@www.prisonmission.org
SUMMARY:Pastor Dwight bringing 12 seeds books to Spanish Pastors Prayer Breakfast\, Sat. April 12\, 10 am River Heights Vineyard Church\, Inver Grove Heights\, MN
DESCRIPTION:Pastor Dwight is excited to be bringing 12 seeds books to Spanish Pastors Prayer Breakfast\, Sat. April 12\, 10 am\, River Heights Vineyard Church\, Inver Grove Heights\, MN. River Heights Vineyard Church \nPastor Dwight will be sharing the vision of PMA with the new Spanish translation and the prison ministry opportunities! if you are in the area\, please join us! Thanks for your prayers!
URL:https://www.prisonmission.org/event/pastor-dwight-bringing-12-seeds-books-to-spanish-pastors-prayer-breakfast-sat-april-12-10-am-river-heights-vineyard-church-inver-grove-heights-mn/
LOCATION:River Heights Vineyard Church\, 6070 Cahill Ave. E\, Inver Grove Heights\, MN\, 55076\, United States
CATEGORIES:Speaking at Churches
ATTACH;FMTTYPE=image/jpeg:https://www.prisonmission.org/wp-content/uploads/2025/04/v2-River-Heights-Vineyard-Church.jpg
END:VEVENT
BEGIN:VEVENT
DTSTART;TZID=America/Chicago:20250427T110000
DTEND;TZID=America/Chicago:20250427T130000
DTSTAMP:20260424T082510
CREATED:20250414T150038Z
LAST-MODIFIED:20250407T184756Z
UID:51945-1745751600-1745758800@www.prisonmission.org
SUMMARY:Pastor Dwight invited to Share at Grace Bible Church\, South Gate\, CA. Sun. April 27\, 11 am
DESCRIPTION:Pastor Dwight is honored to speak at Grace Bible Church\, South Gate\, CA. Sunday\, April 27\, 11 am. If you are in the area\, please stop by and hear what God is going in the prisons! Pastor Don Bruszer is a former PMA board member and Grace Bible Church is a long time supporter of PMA! https://www.gracebiblesouthgate.com/
URL:https://www.prisonmission.org/event/pastor-dwight-invited-to-share-at-grace-bible-church-south-gate-ca-sun-april-27-11-am/
LOCATION:Grace Bible Church – South Gate\, 	 4936 Tweedy Blvd \, South Gate\, CA\,  9028\, United States
CATEGORIES:Speaking at Churches
ATTACH;FMTTYPE=image/jpeg:https://www.prisonmission.org/wp-content/uploads/2025/04/Grace-Bible-Church-South-Gate.jpg
END:VEVENT
END:VCALENDAR