BEGIN:VCALENDAR
VERSION:2.0
PRODID:-//Prison Mission - ECPv6.15.13.1//NONSGML v1.0//EN
CALSCALE:GREGORIAN
METHOD:PUBLISH
X-ORIGINAL-URL:https://www.prisonmission.org
X-WR-CALDESC:Events for Prison Mission
REFRESH-INTERVAL;VALUE=DURATION:PT1H
X-Robots-Tag:noindex
X-PUBLISHED-TTL:PT1H
BEGIN:VTIMEZONE
TZID:America/Chicago
BEGIN:DAYLIGHT
TZOFFSETFROM:-0600
TZOFFSETTO:-0500
TZNAME:CDT
DTSTART:20250309T080000
END:DAYLIGHT
BEGIN:STANDARD
TZOFFSETFROM:-0500
TZOFFSETTO:-0600
TZNAME:CST
DTSTART:20251102T070000
END:STANDARD
BEGIN:DAYLIGHT
TZOFFSETFROM:-0600
TZOFFSETTO:-0500
TZNAME:CDT
DTSTART:20260308T080000
END:DAYLIGHT
BEGIN:STANDARD
TZOFFSETFROM:-0500
TZOFFSETTO:-0600
TZNAME:CST
DTSTART:20261101T070000
END:STANDARD
BEGIN:DAYLIGHT
TZOFFSETFROM:-0600
TZOFFSETTO:-0500
TZNAME:CDT
DTSTART:20270314T080000
END:DAYLIGHT
BEGIN:STANDARD
TZOFFSETFROM:-0500
TZOFFSETTO:-0600
TZNAME:CST
DTSTART:20271107T070000
END:STANDARD
END:VTIMEZONE
BEGIN:VEVENT
DTSTART;TZID=America/Chicago:20260411T100000
DTEND;TZID=America/Chicago:20260411T120000
DTSTAMP:20260425T110613
CREATED:20260411T040013Z
LAST-MODIFIED:20260411T040013Z
UID:52341-1775901600-1775908800@www.prisonmission.org
SUMMARY:Pastor Dwight bringing 12 Seeds books to Spanish Pastors Prayer Breakfast\, Sat. April 11\, 10 am @  Faithful Counsel Tabernacle Church of God\,  3502 E 32nd St.\, Minneapolis\, MN 55406
DESCRIPTION:Pastor Dwight is excited to be bringing 12 Seeds books to the Spanish Pastors Prayer Breakfast\, on Sat. April 11\, 10 am @  Faithful Counsel Tabernacle Church of God\, \n3502 E 32nd St.\, Minneapolis\, MN 55406 \nPastor Dwight will be sharing about the prison ministry opportunities! If you are in the area\, please join us! Thanks for your prayers! \n 
URL:https://www.prisonmission.org/event/pastor-dwight-bringing-12-seeds-books-to-spanish-pastors-prayer-breakfast-sat-april-11-10-am-faithful-counsel-tabernacle-church-of-god-3502-e-32nd-st-minneapolis-mn-55406/
LOCATION:Faithful Counsel Tabernacle Church of God\, 3502 E 32nd St.\,\, Minneapolis\, MN\, 55406\, United States
CATEGORIES:Speaking at Churches
ATTACH;FMTTYPE=image/jpeg:https://www.prisonmission.org/wp-content/uploads/2026/04/COVER-12-SEMILLAS-FIRST-BOOK-LAPTOP-DAE75O85-scaled.jpg
END:VEVENT
BEGIN:VEVENT
DTSTART;TZID=America/Chicago:20260517T090000
DTEND;TZID=America/Chicago:20260517T100000
DTSTAMP:20260425T110613
CREATED:20260424T012934Z
LAST-MODIFIED:20260424T012934Z
UID:52349-1779008400-1779012000@www.prisonmission.org
SUMMARY:Pastor Cal and Karen Bodeutsch\, representing PMA\, May 17\, 9 am Waypoint Community Church\, Spokane Valley\, WA
DESCRIPTION:Local Ministries Spotlight with Pastor Cal and Karen Bodeutsch\, representing PMA at Waypoint Community Church\, Spokane Valley\, WA . Sunday\, May 17\, 9 am. If you are in the area\, please stop by and hear what God is doing in the prisons! \nhttps://www.waypointspokane.org/
URL:https://www.prisonmission.org/event/pastor-cal-and-karen-bodeutsch-representing-pma-may-17-9-am-waypoint-community-church-spokane-valley-wa/
LOCATION:Waypoint Community Church\, 10910 E Boone Avenue\, Spokane Valley\, WA\, 99206\, United States
CATEGORIES:Speaking at Churches
ATTACH;FMTTYPE=image/jpeg:https://www.prisonmission.org/wp-content/uploads/2026/04/waypoint-1.jpg
END:VEVENT
BEGIN:VEVENT
DTSTART;TZID=America/Chicago:20260517T093000
DTEND;TZID=America/Chicago:20260517T103000
DTSTAMP:20260425T110613
CREATED:20260424T013006Z
LAST-MODIFIED:20260424T013006Z
UID:52347-1779010200-1779013800@www.prisonmission.org
SUMMARY:Pastor Dwight speaking May 17\, 9:30 am Grace Bible Church\, Streamwood\, IL
DESCRIPTION:Pastor Dwight will be preaching on Sunday\, May 17\, at 9:30 a.m. at Grace Bible Church\, 500 E Streamwood Blvd\,  Streamwood\, IL 60107. \nPastor Dwight will be sharing about Prison Mission Association. Please join us if you are in the area. Pastor Dwight would love to visit with you. \nhttps://www.facebook.com/GBCofStreamwood/ 
URL:https://www.prisonmission.org/event/pastor-dwight-speaking-may-17-930-am-grace-bible-church-streamwood-il/
LOCATION:Grace Bible Church Streamwood\, 500 E Streamwood Blvd\, \, Streamwood\, IL\, 60107\, United States
CATEGORIES:Speaking at Churches
ATTACH;FMTTYPE=image/jpeg:https://www.prisonmission.org/wp-content/uploads/2026/04/Grace-bible-church-streamwood.jpg
END:VEVENT
BEGIN:VEVENT
DTSTART;TZID=America/Chicago:20260607T100000
DTEND;TZID=America/Chicago:20260607T110000
DTSTAMP:20260425T110613
CREATED:20260424T013044Z
LAST-MODIFIED:20260424T013115Z
UID:52353-1780826400-1780830000@www.prisonmission.org
SUMMARY:Pastor Dwight sharing June 7\, 10 am Bethel Union Church\, Akron\, CO
DESCRIPTION:Pastor Dwight is excited to share from God’s Word and what God is doing in prisons\, Sunday 10 am June 7\, at Bethel Union Church\, 26051 County Road 17\, Akron\, CO 80720-8927. \nIf you are in the area\, I would love to see you. So grateful for this opportunity!! \nhttps://www.facebook.com/BethelUnionChurch
URL:https://www.prisonmission.org/event/pastor-dwight-speaking-june-7-10-am-bethel-union-church-akron-co/
LOCATION:Bethel Union Church\, 26051 County Road 17\, Akron\, CO\, 80720-8927\, United States
CATEGORIES:Speaking at Churches
ATTACH;FMTTYPE=image/jpeg:https://www.prisonmission.org/wp-content/uploads/2026/04/Bethel.jpg
END:VEVENT
END:VCALENDAR