BEGIN:VCALENDAR
VERSION:2.0
PRODID:-//Prison Mission - ECPv6.15.13.1//NONSGML v1.0//EN
CALSCALE:GREGORIAN
METHOD:PUBLISH
X-ORIGINAL-URL:https://www.prisonmission.org
X-WR-CALDESC:Events for Prison Mission
REFRESH-INTERVAL;VALUE=DURATION:PT1H
X-Robots-Tag:noindex
X-PUBLISHED-TTL:PT1H
BEGIN:VTIMEZONE
TZID:America/Chicago
BEGIN:DAYLIGHT
TZOFFSETFROM:-0600
TZOFFSETTO:-0500
TZNAME:CDT
DTSTART:20250309T080000
END:DAYLIGHT
BEGIN:STANDARD
TZOFFSETFROM:-0500
TZOFFSETTO:-0600
TZNAME:CST
DTSTART:20251102T070000
END:STANDARD
BEGIN:DAYLIGHT
TZOFFSETFROM:-0600
TZOFFSETTO:-0500
TZNAME:CDT
DTSTART:20260308T080000
END:DAYLIGHT
BEGIN:STANDARD
TZOFFSETFROM:-0500
TZOFFSETTO:-0600
TZNAME:CST
DTSTART:20261101T070000
END:STANDARD
BEGIN:DAYLIGHT
TZOFFSETFROM:-0600
TZOFFSETTO:-0500
TZNAME:CDT
DTSTART:20270314T080000
END:DAYLIGHT
BEGIN:STANDARD
TZOFFSETFROM:-0500
TZOFFSETTO:-0600
TZNAME:CST
DTSTART:20271107T070000
END:STANDARD
END:VTIMEZONE
BEGIN:VEVENT
DTSTART;TZID=America/Chicago:20260110T100000
DTEND;TZID=America/Chicago:20260110T120000
DTSTAMP:20260423T154935
CREATED:20251213T182051Z
LAST-MODIFIED:20251213T182051Z
UID:52228-1768039200-1768046400@www.prisonmission.org
SUMMARY:Pastor Dwight bringing 12 seeds books to Spanish Pastors Prayer Breakfast\, Sat. Jan. 10\, 10 am\, Iglesia Cristiana Fe Esperanza\, 404 Turril St\, Le Sueur\, MN 56058
DESCRIPTION:Pastor Dwight is excited to be bringing 12 seeds books to Spanish Pastors Prayer Breakfast on January 10 10 am\, Iglesia Cristiana Fe Esperanza\, 404 Turril St\, Le Sueur\, 56058 \nPastor Dwight will be sharing the vision of PMA with the new Spanish translation and the prison ministry opportunities! if you are in the area\, please join us! Thanks for your prayers!
URL:https://www.prisonmission.org/event/pastor-dwight-bringing-12-seeds-books-to-spanish-pastors-prayer-breakfast-sat-jan-10-10-am-iglesia-cristiana-fe-esperanza-404-turril-st-le-sueur-mn-56058/
LOCATION:Iglesia Cristiana Fe Esperanza\, 404 Turril St.\, Le Suer\, MN\, 56058\, United States
CATEGORIES:Speaking at Churches
ATTACH;FMTTYPE=image/jpeg:https://www.prisonmission.org/wp-content/uploads/2025/12/Iglesia-Cristiana-Fe-Esperanza.jpg
END:VEVENT
BEGIN:VEVENT
DTSTART;TZID=America/Chicago:20260207T130000
DTEND;TZID=America/Chicago:20260207T170000
DTSTAMP:20260423T154935
CREATED:20251208T184010Z
LAST-MODIFIED:20251208T184010Z
UID:52226-1770469200-1770483600@www.prisonmission.org
SUMMARY:Prison Mission Association Board Meeting\, Sat. Feb. 7\, 1 pm (PST)
DESCRIPTION:Please pray for our Prison Mission Association board meeting Sat. Feb. 7\, 1 pm (Pacific time) meeting on Zoom. We appreciate all our board members who faithfully serve. We are so thankful how God continues to lead and direct us for these exciting opportunities to see lives changed by the power of the Gospel!
URL:https://www.prisonmission.org/event/prison-mission-association-board-meeting-sat-feb-7-1-pm-pst/
LOCATION:MN
CATEGORIES:Leadership Meeting
ATTACH;FMTTYPE=image/png:https://www.prisonmission.org/wp-content/uploads/2014/03/prisson-mission.png
END:VEVENT
BEGIN:VEVENT
DTSTART;TZID=America/Chicago:20260214T100000
DTEND;TZID=America/Chicago:20260214T120000
DTSTAMP:20260423T154935
CREATED:20251213T182751Z
LAST-MODIFIED:20251213T182751Z
UID:52236-1771063200-1771070400@www.prisonmission.org
SUMMARY:Pastor Dwight bringing 12 seeds books to Spanish Pastors Prayer Breakfast\, Sat. Feb. 14\, 10 am\, Bethesda Church\, Prior Lake\, MN
DESCRIPTION:Pastor Dwight is excited to be bringing 12 seeds books to Spanish Pastors Prayer Breakfast on Feb. 14\, 10 am\, Bethesda Church\, 15033 Hwy 13 S\, Prior Lake\, MN 55417 \nPastor Dwight will be sharing the vision of PMA with the new Spanish translation and the prison ministry opportunities! if you are in the area\, please join us! Thanks for your prayers!
URL:https://www.prisonmission.org/event/pastor-dwight-bringing-12-seeds-books-to-spanish-pastors-prayer-breakfast-sat-feb-14-10-am-bethesda-church-prior-lake-mn/
LOCATION:Bethesda Church\, 15033 Hwy 13 South\, Prior Lake\, MN\, 55372\, United States
CATEGORIES:Speaking at Churches
ATTACH;FMTTYPE=image/jpeg:https://www.prisonmission.org/wp-content/uploads/2015/08/bethesda-outside-photo.jpg
END:VEVENT
BEGIN:VEVENT
DTSTART;TZID=America/Chicago:20260411T100000
DTEND;TZID=America/Chicago:20260411T120000
DTSTAMP:20260423T154935
CREATED:20260411T040013Z
LAST-MODIFIED:20260411T040013Z
UID:52341-1775901600-1775908800@www.prisonmission.org
SUMMARY:Pastor Dwight bringing 12 Seeds books to Spanish Pastors Prayer Breakfast\, Sat. April 11\, 10 am @  Faithful Counsel Tabernacle Church of God\,  3502 E 32nd St.\, Minneapolis\, MN 55406
DESCRIPTION:Pastor Dwight is excited to be bringing 12 Seeds books to the Spanish Pastors Prayer Breakfast\, on Sat. April 11\, 10 am @  Faithful Counsel Tabernacle Church of God\, \n3502 E 32nd St.\, Minneapolis\, MN 55406 \nPastor Dwight will be sharing about the prison ministry opportunities! If you are in the area\, please join us! Thanks for your prayers! \n 
URL:https://www.prisonmission.org/event/pastor-dwight-bringing-12-seeds-books-to-spanish-pastors-prayer-breakfast-sat-april-11-10-am-faithful-counsel-tabernacle-church-of-god-3502-e-32nd-st-minneapolis-mn-55406/
LOCATION:Faithful Counsel Tabernacle Church of God\, 3502 E 32nd St.\,\, Minneapolis\, MN\, 55406\, United States
CATEGORIES:Speaking at Churches
ATTACH;FMTTYPE=image/jpeg:https://www.prisonmission.org/wp-content/uploads/2026/04/COVER-12-SEMILLAS-FIRST-BOOK-LAPTOP-DAE75O85-scaled.jpg
END:VEVENT
BEGIN:VEVENT
DTSTART;VALUE=DATE:20260514
DTEND;VALUE=DATE:20260517
DTSTAMP:20260423T154935
CREATED:20260112T184210Z
LAST-MODIFIED:20260112T184210Z
UID:52237-1778716800-1778975999@www.prisonmission.org
SUMMARY:Pastor Dwight teaching Workshop at CMCA Summit\, Wheaton College\, IL May 14-16\, 2026
DESCRIPTION:Pastor Dwight will be having a PMA exhibitor table and teaching a workshop\nat this 2026 SUMMIT May 14-16\, 2026\nWheaton College\, Billy Graham Center\n501 College Ave\nWheaton\, IL 60187 \nhttps://wheatonbillygraham.com/event/cmca-2026-correctional-ministries-summit/ \nCMCA is committed to hosting an annual Correctional Ministry Summit that offers training\, inspiration\, and networking opportunities to those working with the incarcerated\, formerly incarcerated\, their families\, victims\, and correctional staff.  The purpose of each Summit is: \n\nTo equip correctional ministry leaders\, chaplains\, corrections administrators\, program managers\, and community agency administrators to more effectively serve the incarcerated\, formerly incarcerated\, victims\, and their families through specialized workshops\, networking\, and resources.\nTo facilitate collaboration among organizations that serve those impacted by the criminal justice system.\nTo encourage churches\, faith-based\, and community organizations to more effectively serve the incarcerated\, and formerly incarcerated\, victims and their families.\nTo provide a venue for visioning\, training\, and leadership development for formerly incarcerated persons and victims.\n\nThe objectives of the Summit are as follows: \n\nTo provide instruction through specialized workshops\nTo provide inspiration through engaging plenary sessions\nTo facilitate the establishment of a network of resources\n\nCMCA welcomes you to join us at this year’s Correctional Ministry Summit.  CMCA remains constant in its vision and purpose of the Summit and we pray that each year offers a new and fresh perspective for our attendees and builds them up in the work they are doing to fulfill the work of the Lord. \nPastor Dwight teaching workshop\, “12 Principles for Successful Relationships”\, Workshop Session 2: Friday\, May 15 3:30-5:00 PM \nDESCRIPTION:  Healthy relationships help work through conflict\, division and demonstrate the power of God’s love. These principles can be helpful to the prison staff and residents.  Each attendee will receive a copy of “12 Seeds for Successful Relationships” (2025) by Norm Andersen. Dwight Anderson\, Executive Director\, Prison Mission Association. \nIf you are in the Chicago area\, please call Pastor Dwight\, he would love to catch up with you. 612-423-3457
URL:https://www.prisonmission.org/event/pastor-dwight-teaching-workshop-at-cmca-summit-wheaton-college-il-may-14-16-2026/
LOCATION:Wheaton College\, IL\, United States
CATEGORIES:Conference
ATTACH;FMTTYPE=image/jpeg:https://www.prisonmission.org/wp-content/uploads/2025/12/CMCA-2026-2.jpg
END:VEVENT
BEGIN:VEVENT
DTSTART;VALUE=DATE:20260608
DTEND;VALUE=DATE:20260612
DTSTAMP:20260423T154935
CREATED:20260112T185810Z
LAST-MODIFIED:20260112T185810Z
UID:52253-1780876800-1781222399@www.prisonmission.org
SUMMARY:Pastor Dwight to be at Grace Gospel Fellowship Refresh Pastors Conference\, June 8-11\, Brighton\, CO\, Harvest Fellowship
DESCRIPTION:Pastor Dwight is looking forward to participating at the Grace Gospel Fellowship (GGF) Refresh Pastors Conference and sharing about Prison Mission at Harvest Fellowship\, https://ggfusa.org/2026-ggf-pastors-refresh-conference/ \n11401 E 160th Ave\, Brighton\, CO 80602 \nThe Conference begins on Monday\, June 8\, at Harvest Fellowship and comes to a close on Thursday\, June 11. \nClick here for more info on the conference. https://ggfusa.org/2026-ggf-pastors-refresh-conference/ \nJune 8-11\, Grace Gospel Fellowship Refresh Pastors Conference @ Harvest Fellowship\, Brighton\, CO \nTITLE:  12 Principles for Successful Relationships \nDescription: What can be done about the world’s problems of division\, racism\, protests etc.? We need the power of God’s love demonstrated to those around us and in prison. This workshop will equip you to do this with the 12 Seeds for Successful Relationships   \nWe need to address the world’s problems! Instead of division\, protests etc. We need the power of God’s love demonstrated to those around us and in prison. 12 Seeds for Successful relationships (2025) is a book that will equip us to do this.  Each person will get a copy of the “12 Seeds for Successful relationships” published by PMA. This can be taught to inmates and correction officers. \nTwo outcomes \nMost ministries focus on inmates only\, we have developed this workshop that can be used to help correctional officers as well as inmates. \nYou’ll discover how to demonstrate love in these 12 areas: Respect\, Encouragement\, Listening\, Appreciation\, Trust\, Integrity\, Order\, Nurture\, Synergy\, Hope\, Ideals and Pardon. \nUnderstand how the 12 human needs that each of the 12 Seeds help fill: Significance\, Courage to press on\, Attention\, To be valued\, Security\, Authenticity\, Structure\, To be loved\, To work together\, Motivation to go on\, To focus on higher things and Forgiveness.
URL:https://www.prisonmission.org/event/pastor-dwight-to-be-at-grace-gospel-fellowship-refresh-pastors-conference-june-8-11-brighton-co-harvest-fellowship/
LOCATION:Harvest Fellowhsip\, 11401 East 160th Ave \, Brighton\, CO\, 80602\, United States
CATEGORIES:Conference
ATTACH;FMTTYPE=image/jpeg:https://www.prisonmission.org/wp-content/uploads/2026/01/GGF-refresh-2026-1.jpg
END:VEVENT
END:VCALENDAR