BEGIN:VCALENDAR
VERSION:2.0
PRODID:-//Prison Mission - ECPv6.15.13.1//NONSGML v1.0//EN
CALSCALE:GREGORIAN
METHOD:PUBLISH
X-WR-CALNAME:Prison Mission
X-ORIGINAL-URL:https://www.prisonmission.org
X-WR-CALDESC:Events for Prison Mission
REFRESH-INTERVAL;VALUE=DURATION:PT1H
X-Robots-Tag:noindex
X-PUBLISHED-TTL:PT1H
BEGIN:VTIMEZONE
TZID:America/Chicago
BEGIN:DAYLIGHT
TZOFFSETFROM:-0600
TZOFFSETTO:-0500
TZNAME:CDT
DTSTART:20130310T080000
END:DAYLIGHT
BEGIN:STANDARD
TZOFFSETFROM:-0500
TZOFFSETTO:-0600
TZNAME:CST
DTSTART:20131103T070000
END:STANDARD
BEGIN:DAYLIGHT
TZOFFSETFROM:-0600
TZOFFSETTO:-0500
TZNAME:CDT
DTSTART:20140309T080000
END:DAYLIGHT
BEGIN:STANDARD
TZOFFSETFROM:-0500
TZOFFSETTO:-0600
TZNAME:CST
DTSTART:20141102T070000
END:STANDARD
BEGIN:DAYLIGHT
TZOFFSETFROM:-0600
TZOFFSETTO:-0500
TZNAME:CDT
DTSTART:20150308T080000
END:DAYLIGHT
BEGIN:STANDARD
TZOFFSETFROM:-0500
TZOFFSETTO:-0600
TZNAME:CST
DTSTART:20151101T070000
END:STANDARD
END:VTIMEZONE
BEGIN:VEVENT
DTSTART;TZID=America/Chicago:20140615T104500
DTEND;TZID=America/Chicago:20140615T120000
DTSTAMP:20260425T232319
CREATED:20140606T054004Z
LAST-MODIFIED:20140606T054004Z
UID:7719-1402829100-1402833600@www.prisonmission.org
SUMMARY:Dwight sharing about PMA at Shorewood Bible Church
DESCRIPTION:Dwight will be Sharing about Prison Mission\, on June 15\, 10.45 am at\n\n\n\n\n\nShorewood Bible Church \n1900 Hicks Rd\, Rolling Meadows\, Illinois 60008\n\nIf you are in the area\, come join us and bring a friend!
URL:https://www.prisonmission.org/event/dwight-sharing-pma-shorewood-bible-church/
LOCATION:Shorewood Bible Church\, 1900 Hicks Rd\,  \, Rolling Meadows\, \, IL\, 60008\, United States
CATEGORIES:Speaking at Churches
ATTACH;FMTTYPE=image/jpeg:https://www.prisonmission.org/wp-content/uploads/2014/06/shorewood-bible-church-building.jpg
END:VEVENT
BEGIN:VEVENT
DTSTART;TZID=America/Chicago:20140601T094500
DTEND;TZID=America/Chicago:20140601T120000
DTSTAMP:20260425T232319
CREATED:20140524T004936Z
LAST-MODIFIED:20140524T004936Z
UID:7508-1401615900-1401624000@www.prisonmission.org
SUMMARY:Dwight will be Sharing at Grace Bible Church\, Beloit\, Wisc. June 1
DESCRIPTION:Dwight will be sharing about Prison Mission Association and our ministry: 9.45 am in Sunday School hour and 11 am in the morning service. 
URL:https://www.prisonmission.org/event/dwight-will-be-sharing-at-grace-bible-church-beloit-wisc-june-1/
LOCATION:Grace Bible Church – Beloit\, 1928 Colony Ct\, \, Beloit\, WI\, 53511\, United States
CATEGORIES:Speaking at Churches
ATTACH;FMTTYPE=image/jpeg:https://www.prisonmission.org/wp-content/uploads/2014/05/Dwight-preaching.jpg
END:VEVENT
BEGIN:VEVENT
DTSTART;TZID=America/Chicago:20140529T080000
DTEND;TZID=America/Chicago:20140601T170000
DTSTAMP:20260425T232319
CREATED:20140523T155606Z
LAST-MODIFIED:20140523T155606Z
UID:7491-1401350400-1401642000@www.prisonmission.org
SUMMARY:IMPACT 2014 | Correctional Ministry Summit
DESCRIPTION:Summit 2014 will be one of the few conferences of its kind\, offering attendees opportunities to worship together\, learn about this challenging population\, network with other serving Christians\, and develop the skills needed for correctional ministry. \nPastor Dwight is excited to have a display booth and the opportunity to network and learn from many doing prison ministries. Pray that we may be able to partner with many of them so they can begin using our Life Changing Free Bible Correspondence Lessons! \nSummit 2014 will begin Thursday with the Pre-Summit Restorative Justice Forum featuring Lisa Rea\, President of Restorative Justice International\, which is open to the public.  The Forum will include a victim’s panel and an expert panel.  Pre-Summit workshops dedicated to skill building will be offered to CMCA members. The Summit will conclude Saturday morning with a general session of dedication and worship.  In between there will be over forty workshops taught by Christians serving the offender population\, and general sessions of inspirational praise and worship.  Our theme – IMPACT. \nSave the date and spread the word to friends and colleagues to join us!    We are building a solid program incorporating the excellent ideas\, input and feedback from CMCA members and friends.
URL:https://www.prisonmission.org/event/impact-2014-correctional-ministry-summit/
LOCATION:Wheaton College\, IL\, United States
CATEGORIES:Conference
ATTACH;FMTTYPE=image/jpeg:https://www.prisonmission.org/wp-content/uploads/2014/05/1002659_801837069829984_972186638_n.jpg
END:VEVENT
BEGIN:VEVENT
DTSTART;TZID=America/Chicago:20140417T093000
DTEND;TZID=America/Chicago:20140417T120000
DTSTAMP:20260425T232319
CREATED:20140317T054455Z
LAST-MODIFIED:20140317T054455Z
UID:7408-1397727000-1397736000@www.prisonmission.org
SUMMARY:Dwight will be sharing about PMA at St. Louis Bible Fellowship
DESCRIPTION:9.30am Speaking to Combined Adult Sunday School Classes.\n10.30am Preaching in Morning Worship Service
URL:https://www.prisonmission.org/event/dwight-will-be-sharing-about-pma-at-st-louis-bible-fellowship/
LOCATION:St. Louis Bible Fellowship\, 6234 Victoria Ave\, St. Louis\, MO\, 63139\, United States
END:VEVENT
END:VCALENDAR