BEGIN:VCALENDAR
VERSION:2.0
PRODID:-//Prison Mission - ECPv6.15.13.1//NONSGML v1.0//EN
CALSCALE:GREGORIAN
METHOD:PUBLISH
X-ORIGINAL-URL:https://www.prisonmission.org
X-WR-CALDESC:Events for Prison Mission
REFRESH-INTERVAL;VALUE=DURATION:PT1H
X-Robots-Tag:noindex
X-PUBLISHED-TTL:PT1H
BEGIN:VTIMEZONE
TZID:America/Chicago
BEGIN:DAYLIGHT
TZOFFSETFROM:-0600
TZOFFSETTO:-0500
TZNAME:CDT
DTSTART:20220313T080000
END:DAYLIGHT
BEGIN:STANDARD
TZOFFSETFROM:-0500
TZOFFSETTO:-0600
TZNAME:CST
DTSTART:20221106T070000
END:STANDARD
BEGIN:DAYLIGHT
TZOFFSETFROM:-0600
TZOFFSETTO:-0500
TZNAME:CDT
DTSTART:20230312T080000
END:DAYLIGHT
BEGIN:STANDARD
TZOFFSETFROM:-0500
TZOFFSETTO:-0600
TZNAME:CST
DTSTART:20231105T070000
END:STANDARD
BEGIN:DAYLIGHT
TZOFFSETFROM:-0600
TZOFFSETTO:-0500
TZNAME:CDT
DTSTART:20240310T080000
END:DAYLIGHT
BEGIN:STANDARD
TZOFFSETFROM:-0500
TZOFFSETTO:-0600
TZNAME:CST
DTSTART:20241103T070000
END:STANDARD
END:VTIMEZONE
BEGIN:VEVENT
DTSTART;TZID=America/Chicago:20230503T070000
DTEND;TZID=America/Chicago:20230503T150000
DTSTAMP:20260425T182402
CREATED:20230420T162111Z
LAST-MODIFIED:20230420T162111Z
UID:51620-1683097200-1683126000@www.prisonmission.org
SUMMARY:Pray for Pastor Dwight at St. Cloud Prison\, May 3 for the Transition Fair
DESCRIPTION:Please pray for Pastor Dwight and team\, who will have a display with our PMA Bible lessons\, Bibles\, and 12 seeds books to give out to inmates\, Wed. May 3 at St Cloud Prison and talk to several hundred inmates who will be coming in groups every 30 minutes to talk to us about our correspondence courses. Pray for many to enroll and that we can help them transition by grounding them in God’s Word and principles as they are released within 15 months. We will be there from 6.45 am to 3 pm.
URL:https://www.prisonmission.org/event/pray-for-pastor-dwight-at-st-cloud-prison-may-3-for-the-transition-fair/
LOCATION:Minnesota Correctional Facility- St Cloud\, 2305 Minnesota Blvd.\, \, St. Cloud\,\, MN\, 56304-2424\, United States
CATEGORIES:Outreach Event
ATTACH;FMTTYPE=image/jpeg:https://www.prisonmission.org/wp-content/uploads/2015/05/20130410_st-cloud-prison_33.jpg
END:VEVENT
BEGIN:VEVENT
DTSTART;TZID=America/Chicago:20230518T190000
DTEND;TZID=America/Chicago:20230520T153000
DTSTAMP:20260425T182402
CREATED:20230420T161409Z
LAST-MODIFIED:20230420T161409Z
UID:51615-1684436400-1684596600@www.prisonmission.org
SUMMARY:Pastor Dwight representing PMA at CMCA Summit\, Wheaton College\, IL. May 18-20
DESCRIPTION:Pastor Dwight was invited to have a Prison Mission Association display\, May 18-20\, at the CMCA Ministry Summit\, Wheaton\, IL. Pray for this opportunity to share what God is doing behind bars and networking with other prison ministries. If you are in the Chicago land area\, please call Pastor Dwight as he would love to meet you while in the area!  612-423-3457. \nWheaton College\, Billy Graham Center\n501 College Ave\nWheaton\, IL 60187 \nhttps://www.cmcainternational.org/event/cmca-2023-summit-registration-2/ \n 
URL:https://www.prisonmission.org/event/pastor-dwight-representing-pma-at-cmca-summit-wheaton-college-il-may-18-20/
LOCATION:Wheaton College\, IL\, United States
CATEGORIES:Conference
ATTACH;FMTTYPE=image/webp:https://www.prisonmission.org/wp-content/uploads/2023/04/shortversesummitinfo.webp
END:VEVENT
END:VCALENDAR