BEGIN:VCALENDAR
VERSION:2.0
PRODID:-//Prison Mission - ECPv6.15.13.1//NONSGML v1.0//EN
CALSCALE:GREGORIAN
METHOD:PUBLISH
X-WR-CALNAME:Prison Mission
X-ORIGINAL-URL:https://www.prisonmission.org
X-WR-CALDESC:Events for Prison Mission
REFRESH-INTERVAL;VALUE=DURATION:PT1H
X-Robots-Tag:noindex
X-PUBLISHED-TTL:PT1H
BEGIN:VTIMEZONE
TZID:America/Chicago
BEGIN:DAYLIGHT
TZOFFSETFROM:-0600
TZOFFSETTO:-0500
TZNAME:CDT
DTSTART:20220313T080000
END:DAYLIGHT
BEGIN:STANDARD
TZOFFSETFROM:-0500
TZOFFSETTO:-0600
TZNAME:CST
DTSTART:20221106T070000
END:STANDARD
BEGIN:DAYLIGHT
TZOFFSETFROM:-0600
TZOFFSETTO:-0500
TZNAME:CDT
DTSTART:20230312T080000
END:DAYLIGHT
BEGIN:STANDARD
TZOFFSETFROM:-0500
TZOFFSETTO:-0600
TZNAME:CST
DTSTART:20231105T070000
END:STANDARD
BEGIN:DAYLIGHT
TZOFFSETFROM:-0600
TZOFFSETTO:-0500
TZNAME:CDT
DTSTART:20240310T080000
END:DAYLIGHT
BEGIN:STANDARD
TZOFFSETFROM:-0500
TZOFFSETTO:-0600
TZNAME:CST
DTSTART:20241103T070000
END:STANDARD
END:VTIMEZONE
BEGIN:VEVENT
DTSTART;TZID=America/Chicago:20230901T163000
DTEND;TZID=America/Chicago:20230904T170000
DTSTAMP:20260425T121042
CREATED:20230823T145355Z
LAST-MODIFIED:20230823T145355Z
UID:51644-1693585800-1693846800@www.prisonmission.org
SUMMARY:Pastor Dwight speaking at Labor Day Family Camp\, Sept. 1-4\, Timber Bay Camp\, Onamia\, MN
DESCRIPTION:Pastor Dwight will speak at Labor Day Family Camp at Timber Bay Camp\, Onamia\, MN. Sept. 1-4. https://camp.timberbay.org/ \nEnjoy comfort and privacy at a quiet Northland Lake\, just two hours from Minneapolis… \nCosts for the entire weekend including lodging (three nights)\, food (8 meals)\, and use of the grounds are computed in one figure for those who want to stay in a cabin.  You can request to stay at Lakeside\, Hillside\, Eagleview & Workcrew cabins: (up to Ten) or one of two Trailcrest cabins: (up to Five or Six to a cabin) \n Ages 13 & over…$176.00 per person   Ages 5-12 …88.00 per person    Ages 4 & under…FREE \nIf you are interested in coming\, please email bethesda@bethesdachurch.com for further information to register. \nHere is the theme for the weekend: “Guided by the Spirit -Pursuing God’s Holiness” \nSat. 9:30 am “The Holy Spirit in YOU!” Rom. 8:12-17\,26-28; Eph. 1: 11-14.\nSat. 6:30 pm “The Filling of the Holy Spirit” Eph. 5:15-21\nSun. 9:30 am “The Gifts of the Holy Spirit” Eph. 4:11-16\nMon. 9:30 am “Walking in the Holy Spirit” Gal. 5:16\,22-26 \n \n 
URL:https://www.prisonmission.org/event/pastor-dwight-speaking-at-labor-day-family-camp-sept-1-4-timber-bay-camp-onamia-mn/
LOCATION:Timber Bay Camp and Retreat Center\, 18955 Woodland Road\,\, Onamia\,\, MN\, 56359\, United States
CATEGORIES:Conference
ATTACH;FMTTYPE=image/jpeg:https://www.prisonmission.org/wp-content/uploads/2023/08/2023-Family-camp-social-media-pic.jpg
END:VEVENT
BEGIN:VEVENT
DTSTART;TZID=America/Chicago:20230919T070000
DTEND;TZID=America/Chicago:20230919T140000
DTSTAMP:20260425T121042
CREATED:20230823T150328Z
LAST-MODIFIED:20230823T150328Z
UID:51648-1695106800-1695132000@www.prisonmission.org
SUMMARY:Pray for PMA outreach Sept.19 \, 7 am to 2 pm @ Moose Lake Prison Transition Fair\, MN.
DESCRIPTION:Please pray for Pastor Dwight who will set up a display\, Tues. Sept. 19 at Moose Lake MN Prison and talk to several hundred inmates who will be coming in groups every 30 minutes to talk to us about our correspondence courses. Pray for many to enroll and that we can help them transition by grounding them in God’s Word and principles as they are released within 15 months. We will be there from 7 am to 2 pm. In previous fairs we have had between 69- 255 inmates enroll for our Bible Correspondence courses at each prison! We have the opportunity to give out Bibles and 12 Seeds books to help each inmate find faith in Christ! We are praying for a similar response here!
URL:https://www.prisonmission.org/event/pray-for-pma-outreach-sept-19-7-am-to-2-pm-moose-lake-prison-transition-fair-mn/
LOCATION:Moose Lake Correctional\, 1000 Lake Shore Drive \, Moose Lake \,  55767\, United States
CATEGORIES:Outreach Event
ATTACH;FMTTYPE=image/jpeg:https://www.prisonmission.org/wp-content/uploads/2015/09/adult-facilities-willow-river-moose-lake.jpg
END:VEVENT
END:VCALENDAR