BEGIN:VCALENDAR
VERSION:2.0
PRODID:-//Prison Mission - ECPv6.15.13.1//NONSGML v1.0//EN
CALSCALE:GREGORIAN
METHOD:PUBLISH
X-WR-CALNAME:Prison Mission
X-ORIGINAL-URL:https://www.prisonmission.org
X-WR-CALDESC:Events for Prison Mission
REFRESH-INTERVAL;VALUE=DURATION:PT1H
X-Robots-Tag:noindex
X-PUBLISHED-TTL:PT1H
BEGIN:VTIMEZONE
TZID:America/Chicago
BEGIN:DAYLIGHT
TZOFFSETFROM:-0600
TZOFFSETTO:-0500
TZNAME:CDT
DTSTART:20220313T080000
END:DAYLIGHT
BEGIN:STANDARD
TZOFFSETFROM:-0500
TZOFFSETTO:-0600
TZNAME:CST
DTSTART:20221106T070000
END:STANDARD
BEGIN:DAYLIGHT
TZOFFSETFROM:-0600
TZOFFSETTO:-0500
TZNAME:CDT
DTSTART:20230312T080000
END:DAYLIGHT
BEGIN:STANDARD
TZOFFSETFROM:-0500
TZOFFSETTO:-0600
TZNAME:CST
DTSTART:20231105T070000
END:STANDARD
BEGIN:DAYLIGHT
TZOFFSETFROM:-0600
TZOFFSETTO:-0500
TZNAME:CDT
DTSTART:20240310T080000
END:DAYLIGHT
BEGIN:STANDARD
TZOFFSETFROM:-0500
TZOFFSETTO:-0600
TZNAME:CST
DTSTART:20241103T070000
END:STANDARD
END:VTIMEZONE
BEGIN:VEVENT
DTSTART;TZID=America/Chicago:20231012T073000
DTEND;TZID=America/Chicago:20231012T150000
DTSTAMP:20260425T102751
CREATED:20231006T025135Z
LAST-MODIFIED:20231006T025135Z
UID:51652-1697095800-1697122800@www.prisonmission.org
SUMMARY:Pray for PMA outreach at Rush City Correctional\, Oct. 12\, Transitional Fair!
DESCRIPTION:Please pray for Pastor Dwight who be at the Transition fair\, on Thursday\, Oct. 12 to talk to over 400 inmates who will be coming in groups every 30 minutes. Pray for many to enroll in our Bible Correspondence courses and that we can help them transition by grounding them in God’s Word and principles as they are released within 15 months. We will be there from 7 am to 3 pm. We will also be giving out 12 Seeds Growing in Love Books and Bibles. \nMCF-Rush City\,  7600 525th Street\, Rush City\, MN 55069
URL:https://www.prisonmission.org/event/pray-for-pma-outreach-at-rush-city-correctional-oct-12-transitional-fair/
LOCATION:MCF-Rush City\,  7600 525th Street\,  Rush City\, MN\, 55069\, United States
CATEGORIES:Outreach Event
ATTACH;FMTTYPE=image/jpeg:https://www.prisonmission.org/wp-content/uploads/2015/05/adult-facilities-rush-city.jpg
END:VEVENT
END:VCALENDAR