BEGIN:VCALENDAR
VERSION:2.0
PRODID:-//Prison Mission - ECPv6.15.13.1//NONSGML v1.0//EN
CALSCALE:GREGORIAN
METHOD:PUBLISH
X-ORIGINAL-URL:https://www.prisonmission.org
X-WR-CALDESC:Events for Prison Mission
REFRESH-INTERVAL;VALUE=DURATION:PT1H
X-Robots-Tag:noindex
X-PUBLISHED-TTL:PT1H
BEGIN:VTIMEZONE
TZID:America/Chicago
BEGIN:DAYLIGHT
TZOFFSETFROM:-0600
TZOFFSETTO:-0500
TZNAME:CDT
DTSTART:20230312T080000
END:DAYLIGHT
BEGIN:STANDARD
TZOFFSETFROM:-0500
TZOFFSETTO:-0600
TZNAME:CST
DTSTART:20231105T070000
END:STANDARD
BEGIN:DAYLIGHT
TZOFFSETFROM:-0600
TZOFFSETTO:-0500
TZNAME:CDT
DTSTART:20240310T080000
END:DAYLIGHT
BEGIN:STANDARD
TZOFFSETFROM:-0500
TZOFFSETTO:-0600
TZNAME:CST
DTSTART:20241103T070000
END:STANDARD
BEGIN:DAYLIGHT
TZOFFSETFROM:-0600
TZOFFSETTO:-0500
TZNAME:CDT
DTSTART:20250309T080000
END:DAYLIGHT
BEGIN:STANDARD
TZOFFSETFROM:-0500
TZOFFSETTO:-0600
TZNAME:CST
DTSTART:20251102T070000
END:STANDARD
END:VTIMEZONE
BEGIN:VEVENT
DTSTART;TZID=America/Chicago:20241110T100000
DTEND;TZID=America/Chicago:20241110T113000
DTSTAMP:20260424T123330
CREATED:20241110T055930Z
LAST-MODIFIED:20241110T055930Z
UID:51840-1731232800-1731238200@www.prisonmission.org
SUMMARY:Pastor Dwight to speak Nov. 10\, 10am in Port Orchard\, WA Nov 10\, 10 am @Heritage Foursquare Church\,
DESCRIPTION:Come and hear Pastor Dwightt share what God is doing behind bars this Sunday\, Nov 10\, 10 am (Combined service Both in English and Spanish) – Iglesia Cristiana Shekinah & Heritage Foursquare Church\, 1700 Mile Hill Dr SE\, Port Orchard\, WA 98367 \nhttps://hfcpo.weebly.com
URL:https://www.prisonmission.org/event/pastor-dwight-to-speak-nov-10-10am-in-port-orchard-wa-nov-10-10-am-heritage-foursquare-church/
LOCATION:Heritage Four Square Church\, 1700 Mile Hill Dr SE\,\, Port Orchard\,\, WA\, 98367\, United States
CATEGORIES:Speaking at Churches
ATTACH;FMTTYPE=image/jpeg:https://www.prisonmission.org/wp-content/uploads/2024/11/heritage-4-square-PO-WA.jpg
END:VEVENT
BEGIN:VEVENT
DTSTART;TZID=America/Chicago:20241112T080000
DTEND;TZID=America/Chicago:20241114T170000
DTSTAMP:20260424T123330
CREATED:20241110T054228Z
LAST-MODIFIED:20241110T054228Z
UID:51744-1731398400-1731603600@www.prisonmission.org
SUMMARY:Please pray for PMA Board Retreat\, Nov. 13-14
DESCRIPTION:Please pray for our PMA Board Retreat\, Nov. 13-14.\nWe are so blessed how God has answered so many prayers and for the many new supporters and volunteers this past year. We plan to have some prayer times seeking God and His will for the future of PMA so we appreciate your prayers for this time to reflect and seek the Lord this weekend. We are thrilled how God is helping us to fulfill His mission and vision to reach prisoners for Christ!
URL:https://www.prisonmission.org/event/please-pray-for-pma-board-retreat-nov-13-14/
LOCATION:CO
CATEGORIES:Retreat
ATTACH;FMTTYPE=image/jpeg:https://www.prisonmission.org/wp-content/uploads/2022/02/pma-board.jpg
END:VEVENT
END:VCALENDAR