BEGIN:VCALENDAR
VERSION:2.0
PRODID:-//Prison Mission - ECPv6.15.13.1//NONSGML v1.0//EN
CALSCALE:GREGORIAN
METHOD:PUBLISH
X-WR-CALNAME:Prison Mission
X-ORIGINAL-URL:https://www.prisonmission.org
X-WR-CALDESC:Events for Prison Mission
REFRESH-INTERVAL;VALUE=DURATION:PT1H
X-Robots-Tag:noindex
X-PUBLISHED-TTL:PT1H
BEGIN:VTIMEZONE
TZID:America/Chicago
BEGIN:DAYLIGHT
TZOFFSETFROM:-0600
TZOFFSETTO:-0500
TZNAME:CDT
DTSTART:20240310T080000
END:DAYLIGHT
BEGIN:STANDARD
TZOFFSETFROM:-0500
TZOFFSETTO:-0600
TZNAME:CST
DTSTART:20241103T070000
END:STANDARD
BEGIN:DAYLIGHT
TZOFFSETFROM:-0600
TZOFFSETTO:-0500
TZNAME:CDT
DTSTART:20250309T080000
END:DAYLIGHT
BEGIN:STANDARD
TZOFFSETFROM:-0500
TZOFFSETTO:-0600
TZNAME:CST
DTSTART:20251102T070000
END:STANDARD
BEGIN:DAYLIGHT
TZOFFSETFROM:-0600
TZOFFSETTO:-0500
TZNAME:CDT
DTSTART:20260308T080000
END:DAYLIGHT
BEGIN:STANDARD
TZOFFSETFROM:-0500
TZOFFSETTO:-0600
TZNAME:CST
DTSTART:20261101T070000
END:STANDARD
END:VTIMEZONE
BEGIN:VEVENT
DTSTART;TZID=America/Chicago:20250104T100000
DTEND;TZID=America/Chicago:20250104T120000
DTSTAMP:20260424T082254
CREATED:20241121T162435Z
LAST-MODIFIED:20241121T162435Z
UID:51845-1735984800-1735992000@www.prisonmission.org
SUMMARY:Pastor Dwight bringing 12 seeds books to Spanish Pastors Prayer Breakfast\, Sat. Jan. 4\, 10 am @ Open Door Latino Church\, Minneapolis\, MN
DESCRIPTION:Pastor Dwight is excited to be bringing the 12 Seeds for Successful Relationships book to the Spanish Pastors Prayer Breakfast\,\, on Sat. Jan. 4\, 10 am @ Open Door Latino Church\, 615 E 28th Street \, Minneapolis\, MN 55407\, odewm.com \nPastor Dwight will be sharing the vision of the new Spanish translation and the prison ministry opportunities! if you are in the area\, please join us! Thanks for your prayers!
URL:https://www.prisonmission.org/event/pastor-dwight-bringing-12-seeds-books-to-spanish-pastors-prayer-breakfast-sat-jan-4-10-am-open-door-latino-church-minneapolis-mn/
LOCATION:Open Door Latino Church\, 615 East 28th Street\, Minneapolis\, Minnesota\, 55407\, United States
CATEGORIES:Speaking at Churches
ATTACH;FMTTYPE=image/jpeg:https://www.prisonmission.org/wp-content/uploads/2024/11/open-door-latino-church.jpg
END:VEVENT
END:VCALENDAR